BEGIN:VCALENDAR
VERSION:2.0
PRODID:-//Native Sons &amp; Daughters of Jacksonville - ECPv6.15.20//NONSGML v1.0//EN
CALSCALE:GREGORIAN
METHOD:PUBLISH
X-WR-CALNAME:Native Sons &amp; Daughters of Jacksonville
X-ORIGINAL-URL:https://nsdjax.org
X-WR-CALDESC:Events for Native Sons &amp; Daughters of Jacksonville
REFRESH-INTERVAL;VALUE=DURATION:PT1H
X-Robots-Tag:noindex
X-PUBLISHED-TTL:PT1H
BEGIN:VTIMEZONE
TZID:America/New_York
BEGIN:DAYLIGHT
TZOFFSETFROM:-0500
TZOFFSETTO:-0400
TZNAME:EDT
DTSTART:20180311T070000
END:DAYLIGHT
BEGIN:STANDARD
TZOFFSETFROM:-0400
TZOFFSETTO:-0500
TZNAME:EST
DTSTART:20181104T060000
END:STANDARD
BEGIN:DAYLIGHT
TZOFFSETFROM:-0500
TZOFFSETTO:-0400
TZNAME:EDT
DTSTART:20190310T070000
END:DAYLIGHT
BEGIN:STANDARD
TZOFFSETFROM:-0400
TZOFFSETTO:-0500
TZNAME:EST
DTSTART:20191103T060000
END:STANDARD
BEGIN:DAYLIGHT
TZOFFSETFROM:-0500
TZOFFSETTO:-0400
TZNAME:EDT
DTSTART:20200308T070000
END:DAYLIGHT
BEGIN:STANDARD
TZOFFSETFROM:-0400
TZOFFSETTO:-0500
TZNAME:EST
DTSTART:20201101T060000
END:STANDARD
BEGIN:DAYLIGHT
TZOFFSETFROM:-0500
TZOFFSETTO:-0400
TZNAME:EDT
DTSTART:20210314T070000
END:DAYLIGHT
BEGIN:STANDARD
TZOFFSETFROM:-0400
TZOFFSETTO:-0500
TZNAME:EST
DTSTART:20211107T060000
END:STANDARD
END:VTIMEZONE
BEGIN:VEVENT
DTSTART;TZID=America/New_York:20191225T190000
DTEND;TZID=America/New_York:20200329T210000
DTSTAMP:20260421T061403
CREATED:20200224T165530Z
LAST-MODIFIED:20200330T232445Z
UID:3429-1577300400-1585515600@nsdjax.org
SUMMARY:“Bring a Friend” Incentive Program
DESCRIPTION:Your 2019-2020 Timucuan Longhouse Recruitment Committee is excited to announce the new Timucuan “Bring a Friend” program! \nDo you or your little brave or princess have a friend who you would like to add to your tribe? Maybe you know of another family who you think would enjoy the Native Sons and Daughters programs as much as you and your family do. \nWell BEGINNING TODAY invite them out to an event with you and your little ones will be rewarded with some cool Native Sons and Daughters swag! We’ll be starting with some sweet Native Sons and Daughters aluminum water bottles\, but keep an eye out for additional rewards & incentives for your kids to choose from. \nSimply have your brave or princess “Bring a friend” to Summer Bowling or to any other eligible event\, introduce that friend the Fed Chief\, Medicine Man or any member of the Recruitment Committee\, and your little one and his or her friend will both receive one of these cool rewards! \nEmail me with any questions. \nDetails below… \n\nCreaking Oak\n\nRay Junk III \n  \n“Bring a friend” program – Prizes for bringing guests to eligible events. \n\n\n\n–          Any little brave or princess who brings another child or family to an eligible event in an effort to recruit will receive 1 NSD-branded aluminum water bottle\, PLUS 1 additional NSD-branded aluminum water bottle for that non-member child. \n–          Limit 1 NSD-branded aluminum water bottle per child (Current members or potential recruits) \n–          Eligible events include: \no   Summer Bowling \no   Citywide Powwow \no   Costume Bowling \no   Jumbo Shrimp \no   Other eligible events to be announced \n–          Program lasts from Summer Bowling 2019 through OWB 2020 or while supplies last. \n–          Rewards/Prizes subject to change
URL:https://nsdjax.org/event-detail/bring-a-friend-incentive-program/
LOCATION:FL\, United States
CATEGORIES:Federation Event,Recruitment
ATTACH;FMTTYPE=image/png:https://nsdjax.org/wp-content/uploads/AlumWaterBottles.png
END:VEVENT
BEGIN:VEVENT
DTSTART;TZID=America/New_York:20200216T150000
DTEND;TZID=America/New_York:20200216T173000
DTSTAMP:20260421T061403
CREATED:20191015T181518Z
LAST-MODIFIED:20191015T181518Z
UID:3572-1581865200-1581874200@nsdjax.org
SUMMARY:Icemen Hockey Game
DESCRIPTION:After a great 2018-2019 season\, the Jacksonville Icemen are in full stride and ready to take on the top teams in the ECHL (East Coast Hockey League). The Icemen are affiliated with the Manitoba Moose (AHL) and Winnipeg Jets (NHL)\, and play at VyStar Veterans Memorial Arena in downtown Jacksonville. \nNative Sons & Daughters of Jacksonville will be showing up in force once again to see our Icemen take on the South Carolina Stingrays on Sunday\, February 16\, 2020. Bring your family\, friends\, and neighbors out for an afternoon of exhilarating hockey action. We’ll be seated in the home team’s attack-twice end zone. After we sting the Rays\, we’ve once again been invited to take a group picture down on the ice. \nCost: $20 per person on CircleBridge\nSponsor: Iron Wolf\nDate/Time: February 16\, 2020 3:00 PM\nLocation: VyStar Veterans Memorial Arena\nAddress: 300 A Philip Randolph Blvd\, Jacksonville\, FL 32202
URL:https://nsdjax.org/event-detail/2020-hockey-game/
LOCATION:VyStar Veterans Memorial Arena\, 300 A Philip Randolph Blvd\, Jacksonville\, FL\, 32202\, United States
CATEGORIES:Federation Event,Sporting Event
ATTACH;FMTTYPE=image/png:https://nsdjax.org/wp-content/uploads/icemen-scs-md-1.png
END:VEVENT
BEGIN:VEVENT
DTSTART;TZID=America/New_York:20200229T190000
DTEND;TZID=America/New_York:20200229T220000
DTSTAMP:20260421T061403
CREATED:20190918T202946Z
LAST-MODIFIED:20200127T145039Z
UID:3542-1583002800-1583013600@nsdjax.org
SUMMARY:Monster Jam
DESCRIPTION:SATURDAY!  SATURDAY!   SATURDAY! \nThe mighty Timucuan Federation will go to the enormous iron teepee and watch the big iron ponies FLY\, FLIP\, RUSH\, and CRUSH. Come watch all the action with your braves and princesses. Go early and meet the drivers and get close to the trucks with a Pit Pass (not included). \n  \nEvent Date: Feb 29\, 2020\nEvent Schedule: Pit Party 2:30pm – 5:30pm\, Gate open at 5:00pm\, Show time 7:00pm\nEvent Location: TIAA Bank Field\nEvent Address: 1 Everbank Field Dr\, Jacksonville\, FL 32202\n\nMore Info: Monster Jam Site \nRegistration extended to 2/2 on CircleBridge
URL:https://nsdjax.org/event-detail/2020-monster-jam/
LOCATION:TIAA Bank Field\, 1 Everbank Field Dr\, Jacksonville\, FL\, 32202\, United States
CATEGORIES:Federation Event,Sporting Event
ATTACH;FMTTYPE=image/png:https://nsdjax.org/wp-content/uploads/monster-jam-2019.png
END:VEVENT
END:VCALENDAR