BEGIN:VCALENDAR
VERSION:2.0
PRODID:-//Native Sons &amp; Daughters of Jacksonville - ECPv6.15.20//NONSGML v1.0//EN
CALSCALE:GREGORIAN
METHOD:PUBLISH
X-WR-CALNAME:Native Sons &amp; Daughters of Jacksonville
X-ORIGINAL-URL:https://nsdjax.org
X-WR-CALDESC:Events for Native Sons &amp; Daughters of Jacksonville
REFRESH-INTERVAL;VALUE=DURATION:PT1H
X-Robots-Tag:noindex
X-PUBLISHED-TTL:PT1H
BEGIN:VTIMEZONE
TZID:America/New_York
BEGIN:DAYLIGHT
TZOFFSETFROM:-0500
TZOFFSETTO:-0400
TZNAME:EDT
DTSTART:20180311T070000
END:DAYLIGHT
BEGIN:STANDARD
TZOFFSETFROM:-0400
TZOFFSETTO:-0500
TZNAME:EST
DTSTART:20181104T060000
END:STANDARD
BEGIN:DAYLIGHT
TZOFFSETFROM:-0500
TZOFFSETTO:-0400
TZNAME:EDT
DTSTART:20190310T070000
END:DAYLIGHT
BEGIN:STANDARD
TZOFFSETFROM:-0400
TZOFFSETTO:-0500
TZNAME:EST
DTSTART:20191103T060000
END:STANDARD
BEGIN:DAYLIGHT
TZOFFSETFROM:-0500
TZOFFSETTO:-0400
TZNAME:EDT
DTSTART:20200308T070000
END:DAYLIGHT
BEGIN:STANDARD
TZOFFSETFROM:-0400
TZOFFSETTO:-0500
TZNAME:EST
DTSTART:20201101T060000
END:STANDARD
BEGIN:DAYLIGHT
TZOFFSETFROM:-0500
TZOFFSETTO:-0400
TZNAME:EDT
DTSTART:20210314T070000
END:DAYLIGHT
BEGIN:STANDARD
TZOFFSETFROM:-0400
TZOFFSETTO:-0500
TZNAME:EST
DTSTART:20211107T060000
END:STANDARD
END:VTIMEZONE
BEGIN:VEVENT
DTSTART;TZID=America/New_York:20191207T180000
DTEND;TZID=America/New_York:20191208T080000
DTSTAMP:20260421T103043
CREATED:20191014T185556Z
LAST-MODIFIED:20191119T205301Z
UID:3563-1575741600-1575792000@nsdjax.org
SUMMARY:MOSH Camp - In
DESCRIPTION:Join us at MOSH for an overnight adventure that includes a science show\, a Planetarium program\, movie (tbd) and free time to explore the Museum! At the end of the night\, you can unroll your sleeping bags next to an Allosaurus skeleton or dolphin. “Night at the Museum” adventure includes:– Planetarium Show– Science Show– Pizza Snack– Museum Time– Movie Night– Continental Breakfast– NSD Patch EventCost: $50 per person – register on Circle BridgePlan to arrive at the Museum (front doors) by 6 p.m. MOSH Staff will be in the front lobby to welcome campers. Parking can be found in the lot across the street from MOSH in designated MOSH parking spots. Campers will be provided a late-night pizza snack\, but we recommend campers eat dinner before coming to the Museum.In the morning\, a continental breakfast will be served. Please be aware that due to our artifacts and collections\, MOSH is temperature controlled and can get chilly at night. We advise that you bring warm clothes and plenty of blankets. Also please be aware that not all light will be extinguished in the Museum\, so there will be some spaces that remain lit throughout the night for safety purposes. Feel free to bring your own snacks and water\, but please note that gum is not allowed in the Museum.\n\n  \nLimited to 100 campers –Sign up NOW!
URL:https://nsdjax.org/event-detail/mosh-camp-in/
LOCATION:MOSH\, 1025 Museum Circle Jacksonville\, FL 32207\, Jacksonville\, FL\, 32207\, United States
CATEGORIES:Federation Event
ATTACH;FMTTYPE=image/jpeg:https://nsdjax.org/wp-content/uploads/Mosh.jpg
ORGANIZER;CN="Buddy 'Lion Heart' Greer":MAILTO:tomtombeater@nsdjax.org
END:VEVENT
BEGIN:VEVENT
DTSTART;TZID=America/New_York:20191208T150000
DTEND;TZID=America/New_York:20191208T170000
DTSTAMP:20260421T103043
CREATED:20190816T005145Z
LAST-MODIFIED:20190816T010258Z
UID:3494-1575817200-1575824400@nsdjax.org
SUMMARY:Holiday Skate and Toy Drive
DESCRIPTION:Our annual Holiday Skating Party and Toys for Tots drive is the perfect way to kick off the holiday season. We are moving off the ice to the hard floor of the Skate Station on Kori Rd.  The event will be held on Sunday\, December 8th\, from 3:00 pm to 5:00 pm\, and will be open to family members and friends. \nNo scarf or gloves are required\, and don’t forget to bring a new unwrapped toy for Toys for Tots. \nBig How! \nRunning Wolf \nRegister for $8 per skater on CircleBridge or $10 per skater at the door (cash only)
URL:https://nsdjax.org/event-detail/2019-holiday-skate/
LOCATION:Skate Station\, 3461 Kori Rd\, Jacksonville\, FL\, 32257\, United States
CATEGORIES:Federation Event
ATTACH;FMTTYPE=image/png:https://nsdjax.org/wp-content/uploads/skate-station-logo.png
END:VEVENT
BEGIN:VEVENT
DTSTART;TZID=America/New_York:20191209T190000
DTEND;TZID=America/New_York:20191209T203000
DTSTAMP:20260421T103043
CREATED:20191202T162203Z
LAST-MODIFIED:20191202T162228Z
UID:3660-1575918000-1575923400@nsdjax.org
SUMMARY:Joint Fed Council and Chiefs Meeting **Alternate Location**
DESCRIPTION:Federation Council Meeting is held the second Monday of each month at Fruit Cove Baptist Church (map). This venue is unavailable for December so we will meet at V Pizza in Mandarin instead. \n  \nMeeting starts promptly at 7:00 PM. Agenda will be emailed to council members the day before the meeting. \nThis will be a joint Fed Council and Chiefs meeting. \nAll Tribe Chiefs\, or a designated replacement are invited to the Fed Council meeting
URL:https://nsdjax.org/event-detail/2019-december-fed-council-meeting/
LOCATION:V Pizza Mandarin\, 12601 San Jose Blvd\,\, Jacksonville\, FL\, 32223\, United States
CATEGORIES:Meeting
END:VEVENT
BEGIN:VEVENT
DTSTART;TZID=America/New_York:20191225T080000
DTEND;TZID=America/New_York:20191225T170000
DTSTAMP:20260421T103043
CREATED:20200220T182810Z
LAST-MODIFIED:20191211T212722Z
UID:3509-1577260800-1577293200@nsdjax.org
SUMMARY:REFERRAL INCENTIVE PROGRAM 2019-2020
DESCRIPTION:Big How Big Braves! \nWord of mouth has consistently been the true recruitment engine of this great organization. Growing this program is all about YOU and your kids sharing this great experience with the people in your day to day lives. To encourage this grassroots growth\, your 2019-2020 Timucuan Longhouse Recruitment Committee is announcing some updates to an old Timucuan tradition: \nTHE 2019-2020 TIMUCUAN REFERRAL INCENTIVE PROGRAM! \nSome Highlights: \n\nEach new family recruited will earn your family one entry into one of two “Grand Prize Package” drawings.\n\nOne drawing entry per family recruited – NO LIMIT TO THE TOTAL NUMBER OF ENTRIES PER FAMILY.\nSpecific “Grand Prize Package” contents to be determined\nSeparate drawings for boys tribes and Girls’ tribes to be held at the respective Fall Longhouses.\n\n\n\n\n\n\n\n\nFor 1st new family recruited\, existing father and child member will EACH receive 1 polyester “Dri-fit” type T-shirt displaying a full-color NSD Logo on front left breast in addition to 1 “Grand Prize” drawing entry.\n\n\n\n\n\n\n\nFor 2nd new family recruited\, existing father and child member will EACH also receive a free longhouse (Paid by Timucuan Federation) in addition to 1 “Grand Prize” drawing entry.\n\nHow it works: \n\n You must know this family prior to referring them\n Send a family to join.nsdjax.org (share it on facebook\, invite friends with kids\, etc)\n Once they register on circlebridge\, send an email to the medicine man (medicineman@nsdjax.org) to let him know which family you referred.\nOnce the new family is confirmed\, Medicine Man will make arrangements for your referral incentive reward (Tee-shirt/Free event/Drawing Entry)\n Time is of the essence! Send the email as soon as you know the new family has signed up for national and local dues.\n\nNotes about Free Longhouse Events: \n\n The free event is good for you and any children you have registered for the program – Or you can choose to give it away to the new family you’ve recruited!\n Only one free event per existing family\n The first event eligible is the Fall Longhouse for boys or girls\n\nThe Fall Longhouse is RIGHT AROUND THE CORNER!! Register your family and a friend’s family now and SAVE! \n\n\n\n\n  Creaking Oak \nRay Junk III \nrecruitmentchief@nsdjax.org
URL:https://nsdjax.org/event-detail/referral-incentive-program-2019-2020/
LOCATION:FL
ATTACH;FMTTYPE=image/png:https://nsdjax.org/wp-content/uploads/Dri-Fit.png
END:VEVENT
BEGIN:VEVENT
DTSTART;TZID=America/New_York:20191225T190000
DTEND;TZID=America/New_York:20200329T210000
DTSTAMP:20260421T103043
CREATED:20200224T165530Z
LAST-MODIFIED:20200330T232445Z
UID:3429-1577300400-1585515600@nsdjax.org
SUMMARY:“Bring a Friend” Incentive Program
DESCRIPTION:Your 2019-2020 Timucuan Longhouse Recruitment Committee is excited to announce the new Timucuan “Bring a Friend” program! \nDo you or your little brave or princess have a friend who you would like to add to your tribe? Maybe you know of another family who you think would enjoy the Native Sons and Daughters programs as much as you and your family do. \nWell BEGINNING TODAY invite them out to an event with you and your little ones will be rewarded with some cool Native Sons and Daughters swag! We’ll be starting with some sweet Native Sons and Daughters aluminum water bottles\, but keep an eye out for additional rewards & incentives for your kids to choose from. \nSimply have your brave or princess “Bring a friend” to Summer Bowling or to any other eligible event\, introduce that friend the Fed Chief\, Medicine Man or any member of the Recruitment Committee\, and your little one and his or her friend will both receive one of these cool rewards! \nEmail me with any questions. \nDetails below… \n\nCreaking Oak\n\nRay Junk III \n  \n“Bring a friend” program – Prizes for bringing guests to eligible events. \n\n\n\n–          Any little brave or princess who brings another child or family to an eligible event in an effort to recruit will receive 1 NSD-branded aluminum water bottle\, PLUS 1 additional NSD-branded aluminum water bottle for that non-member child. \n–          Limit 1 NSD-branded aluminum water bottle per child (Current members or potential recruits) \n–          Eligible events include: \no   Summer Bowling \no   Citywide Powwow \no   Costume Bowling \no   Jumbo Shrimp \no   Other eligible events to be announced \n–          Program lasts from Summer Bowling 2019 through OWB 2020 or while supplies last. \n–          Rewards/Prizes subject to change
URL:https://nsdjax.org/event-detail/bring-a-friend-incentive-program/
LOCATION:FL\, United States
CATEGORIES:Federation Event,Recruitment
ATTACH;FMTTYPE=image/png:https://nsdjax.org/wp-content/uploads/AlumWaterBottles.png
END:VEVENT
END:VCALENDAR