BEGIN:VCALENDAR
VERSION:2.0
PRODID:-//Native Sons &amp; Daughters of Jacksonville - ECPv6.15.20//NONSGML v1.0//EN
CALSCALE:GREGORIAN
METHOD:PUBLISH
X-WR-CALNAME:Native Sons &amp; Daughters of Jacksonville
X-ORIGINAL-URL:https://nsdjax.org
X-WR-CALDESC:Events for Native Sons &amp; Daughters of Jacksonville
REFRESH-INTERVAL;VALUE=DURATION:PT1H
X-Robots-Tag:noindex
X-PUBLISHED-TTL:PT1H
BEGIN:VTIMEZONE
TZID:America/New_York
BEGIN:DAYLIGHT
TZOFFSETFROM:-0500
TZOFFSETTO:-0400
TZNAME:EDT
DTSTART:20180311T070000
END:DAYLIGHT
BEGIN:STANDARD
TZOFFSETFROM:-0400
TZOFFSETTO:-0500
TZNAME:EST
DTSTART:20181104T060000
END:STANDARD
BEGIN:DAYLIGHT
TZOFFSETFROM:-0500
TZOFFSETTO:-0400
TZNAME:EDT
DTSTART:20190310T070000
END:DAYLIGHT
BEGIN:STANDARD
TZOFFSETFROM:-0400
TZOFFSETTO:-0500
TZNAME:EST
DTSTART:20191103T060000
END:STANDARD
BEGIN:DAYLIGHT
TZOFFSETFROM:-0500
TZOFFSETTO:-0400
TZNAME:EDT
DTSTART:20200308T070000
END:DAYLIGHT
BEGIN:STANDARD
TZOFFSETFROM:-0400
TZOFFSETTO:-0500
TZNAME:EST
DTSTART:20201101T060000
END:STANDARD
END:VTIMEZONE
BEGIN:VEVENT
DTSTART;VALUE=DATE:20190918
DTEND;VALUE=DATE:20191007
DTSTAMP:20260421T143522
CREATED:20190918T202324Z
LAST-MODIFIED:20190918T202432Z
UID:3536-1568764800-1570406399@nsdjax.org
SUMMARY:Statewide PowWow Patch Design Contest
DESCRIPTION:Your Statewide Planning Committee needs you help.  We want a memorable patch to go along with the memorable time you will be having at the Statewide PowWow March 19-22nd 2020 at Wickham Park.  Contest closes Oct 6th. \nTheme is 2020 Vision for the Future\, with eyes on the Past. \nLet your imagination run wild! \nSubmit entries to Statewide Chief\, Statewide Medicine Man or Planning committee by Oct 6th. \nPrizes TBA
URL:https://nsdjax.org/event-detail/statewide-powwow-patch-design-contest/
LOCATION:Wickham Park\, 2500 Parkway Dr\, Melbourne\, FL\, 32935\, United States
CATEGORIES:Federation Event,Important Date
ATTACH;FMTTYPE=image/jpeg:https://nsdjax.org/wp-content/uploads/qmark-patch.jpg
ORGANIZER;CN="Rick 'Storm Cloud' Murphy":MAILTO:fedchief@nsdjax.org
END:VEVENT
BEGIN:VEVENT
DTSTART;TZID=America/New_York:20191014T190000
DTEND;TZID=America/New_York:20191014T203000
DTSTAMP:20260421T143522
CREATED:20191006T214925Z
LAST-MODIFIED:20191006T214925Z
UID:3554-1571079600-1571085000@nsdjax.org
SUMMARY:Joint Fed Council and Chiefs Meeting **Alternate Location**
DESCRIPTION:Federation Council Meeting is held the second Monday of each month at Fruit Cove Baptist Church (map). This venue is unavailable for October so we will meet at Hooters in Mandarin instead. \n  \nMeeting starts promptly at 7:00 PM. Agenda will be emailed to council members the day before the meeting. \nThis will be a joint Fed Council and Chiefs meeting. \nAll Tribe Chiefs\, or a designated replacement are invited to the Fed Council meeting
URL:https://nsdjax.org/event-detail/2019-october-fed-council-meeting-2-2/
LOCATION:Hooters\, 8938 San Jose Blvd\, Jacksonville\, FL\, 32257\, United States
CATEGORIES:Meeting
END:VEVENT
BEGIN:VEVENT
DTSTART;TZID=America/New_York:20191027T160000
DTEND;TZID=America/New_York:20191027T180000
DTSTAMP:20260421T143522
CREATED:20190625T193549Z
LAST-MODIFIED:20191008T131717Z
UID:3437-1572192000-1572199200@nsdjax.org
SUMMARY:Costume Bowling
DESCRIPTION:Don’t miss Costume Bowling Sunday\, October 27th at earlier time of 4pm at the Bowl America in Mandarin (10333 San Jose Blvd).  \nWe will be awarding a trophy for Funniest Costume (male and female) \, Scariest Costume\, Most Creative Homemade Costume\, and Best Pathfinder Costume and a special Trophy (and bragging rights) for the most active tribe. This event is open to your whole family and friends as well as potential new members. Everyone should wear their Halloween costume. Cost $13 per child. Register on CircleBridge. \nWe will also be handing out trophies to our summer bowling winners
URL:https://nsdjax.org/event-detail/2019-costume-bowling/
LOCATION:Bowlero\, 10333 San Jose Blvd\, Jacksonville\, FL\, 32257\, United States
CATEGORIES:Federation Event
ATTACH;FMTTYPE=image/jpeg:https://nsdjax.org/wp-content/uploads/Costume-Bowling-2017-Winners.jpg
ORGANIZER;CN="Stewart 'Running Wombat' Morris":MAILTO:webspinner@nsdjax.org
END:VEVENT
END:VCALENDAR