BEGIN:VCALENDAR
VERSION:2.0
PRODID:-//Native Sons &amp; Daughters of Jacksonville - ECPv6.15.20//NONSGML v1.0//EN
CALSCALE:GREGORIAN
METHOD:PUBLISH
X-ORIGINAL-URL:https://nsdjax.org
X-WR-CALDESC:Events for Native Sons &amp; Daughters of Jacksonville
REFRESH-INTERVAL;VALUE=DURATION:PT1H
X-Robots-Tag:noindex
X-PUBLISHED-TTL:PT1H
BEGIN:VTIMEZONE
TZID:America/New_York
BEGIN:DAYLIGHT
TZOFFSETFROM:-0500
TZOFFSETTO:-0400
TZNAME:EDT
DTSTART:20180311T070000
END:DAYLIGHT
BEGIN:STANDARD
TZOFFSETFROM:-0400
TZOFFSETTO:-0500
TZNAME:EST
DTSTART:20181104T060000
END:STANDARD
BEGIN:DAYLIGHT
TZOFFSETFROM:-0500
TZOFFSETTO:-0400
TZNAME:EDT
DTSTART:20190310T070000
END:DAYLIGHT
BEGIN:STANDARD
TZOFFSETFROM:-0400
TZOFFSETTO:-0500
TZNAME:EST
DTSTART:20191103T060000
END:STANDARD
BEGIN:DAYLIGHT
TZOFFSETFROM:-0500
TZOFFSETTO:-0400
TZNAME:EDT
DTSTART:20200308T070000
END:DAYLIGHT
BEGIN:STANDARD
TZOFFSETFROM:-0400
TZOFFSETTO:-0500
TZNAME:EST
DTSTART:20201101T060000
END:STANDARD
END:VTIMEZONE
BEGIN:VEVENT
DTSTART;TZID=America/New_York:20190909T190000
DTEND;TZID=America/New_York:20190909T203000
DTSTAMP:20260421T144745
CREATED:20190813T123502Z
LAST-MODIFIED:20190813T123502Z
UID:3492-1568055600-1568061000@nsdjax.org
SUMMARY:Joint Fed Council and Chiefs Meeting **Alternate Location**
DESCRIPTION:Federation Council Meeting is held the second Monday of each month at Fruit Cove Baptist Church (map). This venue is unavailable for September so we will meet at Hurricanes at Bartram Park instead. \n  \nMeeting starts promptly at 7:00 PM. Agenda will be emailed to council members the day before the meeting. \nThis will be a joint Fed Council and Chiefs meeting. \nAll Tribe Chiefs\, or a designated replacement are invited to the Fed Council meeting
URL:https://nsdjax.org/event-detail/2019-september-fed-council-meeting-2/
LOCATION:Hurricane Grill & Wings\, 12547 Bartram Park Blvd\, 205\, Jacksonville\, FL\, 32258\, United States
CATEGORIES:Meeting
END:VEVENT
BEGIN:VEVENT
DTSTART;VALUE=DATE:20190918
DTEND;VALUE=DATE:20191007
DTSTAMP:20260421T144745
CREATED:20190918T202324Z
LAST-MODIFIED:20190918T202432Z
UID:3536-1568764800-1570406399@nsdjax.org
SUMMARY:Statewide PowWow Patch Design Contest
DESCRIPTION:Your Statewide Planning Committee needs you help.  We want a memorable patch to go along with the memorable time you will be having at the Statewide PowWow March 19-22nd 2020 at Wickham Park.  Contest closes Oct 6th. \nTheme is 2020 Vision for the Future\, with eyes on the Past. \nLet your imagination run wild! \nSubmit entries to Statewide Chief\, Statewide Medicine Man or Planning committee by Oct 6th. \nPrizes TBA
URL:https://nsdjax.org/event-detail/statewide-powwow-patch-design-contest/
LOCATION:Wickham Park\, 2500 Parkway Dr\, Melbourne\, FL\, 32935\, United States
CATEGORIES:Federation Event,Important Date
ATTACH;FMTTYPE=image/jpeg:https://nsdjax.org/wp-content/uploads/qmark-patch.jpg
ORGANIZER;CN="Rick 'Storm Cloud' Murphy":MAILTO:fedchief@nsdjax.org
END:VEVENT
BEGIN:VEVENT
DTSTART;TZID=America/New_York:20190921T100000
DTEND;TZID=America/New_York:20190921T160000
DTSTAMP:20260421T144745
CREATED:20190731T220706Z
LAST-MODIFIED:20190801T184131Z
UID:3461-1569060000-1569081600@nsdjax.org
SUMMARY:BEST CITYWIDE POWWOW EVER.
DESCRIPTION:Big How Timucuan Longhouse! \nThe time has come to kick off another program year\, and we’re going to do it RIGHT in 2019! Get ready for the most amazing\, exciting and activity-filled Citywide Powwow to date! \nJoin us on Saturday\, September 21 from 10:00 AM to 4:00 PM for your 2019 Citywide Powwow. Following the Powwow\, stick around for the 2019 Jax Cracker Pinewood derby races from 4:00 PM to 7:00 PM. \nAs always\, Native Sons and Daughters members attend Citywide Powwow FOR FREE!  Please register for your FREE day pass on Circlebridge to receive your 2019 Citywide Powwow Patch! \nIncluded at no charge to members: \n\n\n\n·         Team (Tribe) Challenge Course \n·         Fishing (bring your own pole\, catch and release) \n·         Swimming pool \n·         Lake swimming \n·         Canoeing \n·         Paddle boarding \n·         Paddle boating \n·         Hiking\n·         Disc golf \n·         Human foosball \n·         Volleyball \n·         Basketball court \n·         Horse shoes \n·         Archery range \n·         BB gun range\n\n\n\n  \nFor just a few bucks\, make it a campout. Come early and stay late\, whether in the air conditioned lakefront lodge & bunkhouse\, or in your own tent or RV! \nOther add-ons in Circlebridge include an awesome 500 ft zip line through the treetops\, a 65 ft tall tandem “Scream Swing” and a Lake Activities Wristband for unlimited access to the Giant Slip n Slide &  . . .“The Blob”! \nAlso\, don’t forget to buy your “Citywide Meal Ticket” for a delicious\, freshly prepared lunch from our smoker! \nActivities are appropriate for all children aged 4 to 15. Families are encouraged to attend together and bring friends. This is a great opportunity for families to invite friends out to experience the Native Sons and Daughters programs. \n  \n\n\n\n  \nAdditional (Premium) Lake Activities (Lifeguard on duty) – Register on Circlebridge or bring cash to the event \n  \n$5.00 – “The Blob” and the Giant Slip n Slide – One wristband for unlimited use of both \n3… 2… 1… Liftoff! Climb out to the end of “The Blob” and let a friend or family member launch you out into the lake.      \nGrab a tube and hop on the longest Slip n Slide you’ve ever seen\, til you plunge full speed into Lake Johnson! \n   \nAdditional (Premium) Land Activities – Register on Circlebridge or bring cash to the event \n  \n\n\n\n  \n$11.00 – The 500 ft. Zip Line (2 zip-trips) \n(85 lbs or more\, please) \nStart off on the ”Bunny slope” learning the ropes from your trainer\, then get ready for 2 rides of an estimated 500 feet of flying through the treetops! \n \n$6.00 – The “Scream Swing” (1 Swing) \n(Two riders per swing) \nHold on tight\, because this wild ride lifts you and your partner 65 feet in the air before letting you loose on the longest\, wildest swing this side of the St. Johns River!\n\n\n \n \n\n\n\n\n\n\n\nCamping options – Register on Circlebridge \nThe Lakeside Lodge & Bunkhouse \n\nSeparate bunking rooms & restroom for Boys / Girls\nFull kitchen\, common area with comfy couches\nGame room with Pool\, Foosball\, Ping-pong tables\n$18/night per person\n\n  \nPrimitive tent camping \n\nAccess to water\, electricity in restrooms\nNo Restrictions: Camp near an electric outlet with an extension cord\, or as deep in the woods as you like\n$10/night per person\n\n  \nRV Camping – Water + Electric – $25/night per RV (4 campers per RV) \n\nLakeside & shaded\, with a great view from under the oak trees\n4 Campers per RV\n$25 per RV\, per night\nOnly 4 spots available. Register today!\n\n  \nRV Camping –Electric ONLY – $23/night per RV \n\nSunny\, open spots near the pool & restrooms\n4 Campers per RV\n$23 per RV per night\nOnly 4 spots available. Register today!\n\n  \nRV Camping – NO water/electric – \n\nAccess to water\, electricity in restrooms\nPark & camp wherever you like\n4 Campers per RV\n$12/night per RV\n\n  \n  \nCitywide Meal Ticket – Register on Circlebridge or bring cash to event \n$6.00 \nOur famous Timucuan Longhouse smoker will be fired up and turning out barbeque lunches in the concessions area!! Only $6 for a pulled pork sandwich or 2 all beef hotdogs\, plus a bag of chips AND a drink! \n  \nBring a Friend! – Free! \nDon’t Forget!  If your brave or princess brings a friend to this event\, both your child and the friend will receive an awesome Native Sons and Daughters branded aluminum water bottle! \n\nSee details in promotion announcement or email recruitmentchief@nsdjax.org for details\n\nAdditional  “A la carte” options \nNFCC has additional activities and additional lodging accommodations that may be perfect for your tribe. \nIf your tribe would like to purchase any of these additional activities or lodging\, please contact Creaking Oak no later than Friday\, September 6th to arrange: \n\n\n\nActivity Description\n\n\nPaintball – $25/person – gun\, mask\, and 400 paintballs included.  Must provide own protective clothing.\n\n\nTubing (Pulled behind boat) – $100/hour\n\n\nPistol and/or Rifle Range – $100 for first hour\, $25 each additional hour.  Must provide own gun and ammo.\n\n\nSkeet Shooting – $100 for first box of clays and $25 for each additional box.\n\n\n\n  \n\n\n\nLodging Description\n\n\nLIVE OAK (10-20 people)\n\n\n–          1 night- $25 per person / 2 nights- $20 / 3+ nights- $17.50\n\n\n–          $275 minimum per night\n\n\nSANDHILL (5-14 people)\n\n\n–          $27.50/person\n\n\n–          Minimums: 1 night- $275 / 2 nights- $220 / 3+ nights $165\n\n\nPINEWOOD (2-6 people)\n\n\n–          $27.50/person\n\n\n–          Minimums: 1 night- $110 / 2+ nights- $80
URL:https://nsdjax.org/event-detail/2018-citywide-pow-wow-2/
LOCATION:North FL Christian Camp\, 6779 Camp Rd\, Keystone Heights\,\, FL\, 32656\, United States
CATEGORIES:Federation Event
ATTACH;FMTTYPE=image/png:https://nsdjax.org/wp-content/uploads/MainPicReversed.png
END:VEVENT
BEGIN:VEVENT
DTSTART;TZID=America/New_York:20190921T160000
DTEND;TZID=America/New_York:20190921T190000
DTSTAMP:20260421T144745
CREATED:20190807T195410Z
LAST-MODIFIED:20190807T201506Z
UID:3484-1569081600-1569092400@nsdjax.org
SUMMARY:Jax Cracker Race 2019
DESCRIPTION:  \nLadies and Gentlemen\, START YOUR ENGINES! It’s time for our Annual JAX CRACKER RACE! You and your brave and/or princess get a plain block of pinewood\, 4 wheels\, and 4 axles. The rest is up to you to shape\, cut\, file\, sand\, glue and paint whatever creation you want! There is no limit to your creativity. Top 3 places get trophies for both Boys and Girls for Speed AND Best in Show. The race will start at 4PM on Saturday\, September 21st immediately after the Citywide Pow Wow at the North Florida Christian Camp (6779 Camp Road\, Keystone Heights\, FL 32656). We will follow the National Certified Pinewood Derby Agency Rules. Register TODAY and get your cart kit started now. Let the best car win! \nRegister on CircleBridge \nView Official Rules \nThe Annual Native Sons & Daughters’ Jax Cracker Race\nSeptember 21st 4PM – 7PM\nImmediately after the Citywide Pow Wow.\nNorth Florida Christian Camp\n6779 Camp Road\nKeystone Heights\, FL 32656\n$15/per car – Including a patch\nRegistration opens now and closes Saturday\, September 14th
URL:https://nsdjax.org/event-detail/2019-jax-cracker-race/
LOCATION:North FL Christian Camp\, 6779 Camp Rd\, Keystone Heights\,\, FL\, 32656\, United States
CATEGORIES:Federation Event
ATTACH;FMTTYPE=image/png:https://nsdjax.org/wp-content/uploads/pinewood.png
END:VEVENT
END:VCALENDAR