BEGIN:VCALENDAR
VERSION:2.0
PRODID:-//Native Sons &amp; Daughters of Jacksonville - ECPv6.15.20//NONSGML v1.0//EN
CALSCALE:GREGORIAN
METHOD:PUBLISH
X-WR-CALNAME:Native Sons &amp; Daughters of Jacksonville
X-ORIGINAL-URL:https://nsdjax.org
X-WR-CALDESC:Events for Native Sons &amp; Daughters of Jacksonville
REFRESH-INTERVAL;VALUE=DURATION:PT1H
X-Robots-Tag:noindex
X-PUBLISHED-TTL:PT1H
BEGIN:VTIMEZONE
TZID:America/New_York
BEGIN:DAYLIGHT
TZOFFSETFROM:-0500
TZOFFSETTO:-0400
TZNAME:EDT
DTSTART:20130310T070000
END:DAYLIGHT
BEGIN:STANDARD
TZOFFSETFROM:-0400
TZOFFSETTO:-0500
TZNAME:EST
DTSTART:20131103T060000
END:STANDARD
BEGIN:DAYLIGHT
TZOFFSETFROM:-0500
TZOFFSETTO:-0400
TZNAME:EDT
DTSTART:20140309T070000
END:DAYLIGHT
BEGIN:STANDARD
TZOFFSETFROM:-0400
TZOFFSETTO:-0500
TZNAME:EST
DTSTART:20141102T060000
END:STANDARD
BEGIN:DAYLIGHT
TZOFFSETFROM:-0500
TZOFFSETTO:-0400
TZNAME:EDT
DTSTART:20150308T070000
END:DAYLIGHT
BEGIN:STANDARD
TZOFFSETFROM:-0400
TZOFFSETTO:-0500
TZNAME:EST
DTSTART:20151101T060000
END:STANDARD
BEGIN:DAYLIGHT
TZOFFSETFROM:-0500
TZOFFSETTO:-0400
TZNAME:EDT
DTSTART:20160313T070000
END:DAYLIGHT
BEGIN:STANDARD
TZOFFSETFROM:-0400
TZOFFSETTO:-0500
TZNAME:EST
DTSTART:20161106T060000
END:STANDARD
END:VTIMEZONE
BEGIN:VEVENT
DTSTART;TZID=America/New_York:20150926T100000
DTEND;TZID=America/New_York:20150926T160000
DTSTAMP:20260419T122022
CREATED:20180528T140415Z
LAST-MODIFIED:20180528T140415Z
UID:2285-1443261600-1443283200@nsdjax.org
SUMMARY:Citywide Pow Wow
DESCRIPTION:Big How Braves\, Sons\, and Daughters! \nAnnouncing our annual citywide Pow-wow for all members and guests to be introduced to Native Sons and Daughters of Jacksonville! Sign up so we can get a count for the food that we will make available. \nCome join in the festivities to include Crafts\, Sack Races\, Egg Toss\, Tug of War\, War Games\, and the ever popular Rock Climbing wall! Hot Dogs and Hamburgers will be available for sale as well as drinks and snow cones. \nFamilies are invited to camp at the campsites or in the tree houses. Tree houses are to be reserved through CircleBridge registration. Cost for tree house is $9.00 per person up to the first 36 people to sign up. Cost for treehouse includes both nights of camping. Call Camp Chowenwaw directly to reserve your camp sites or cabins on a first come first serve basis. Camping Friday and Saturday night is available. Costs for campsite is $15.00 per night per site with a maximum of 6 campers per site. \nDate/Time: September 26\, 2015 – 10:00 AM – 4:00 PM\nLocation: Camp Chowenwaw Park\nAddress: 1517 Ball Rd\, Green Cove Springs\, FL 32043\nPhone: (904) 529-8058
URL:https://nsdjax.org/event-detail/2015-citywide-pow-wow/
LOCATION:Camp Chowenwaw Park\, 1517 Ball Road\, Green Cove Springs\, FL\, 32043\, United States
CATEGORIES:Federation Event,Recruitment
ATTACH;FMTTYPE=image/jpeg:https://nsdjax.org/wp-content/uploads/100_14671.jpg
END:VEVENT
BEGIN:VEVENT
DTSTART;TZID=America/New_York:20140927T100000
DTEND;TZID=America/New_York:20140927T160000
DTSTAMP:20260419T122022
CREATED:20180528T151127Z
LAST-MODIFIED:20180528T151127Z
UID:2356-1411812000-1411833600@nsdjax.org
SUMMARY:Citywide Pow Wow
DESCRIPTION:By Big Horn Moose / Tenor Bear\nOn September 27th from 10am-4pm\, we will be having our annual CITY WIDE POW WOW. It is a PUBLIC (free) Open House to discover with your children\, the Native Sons and Daughter Program and our 2014-2015 program year. This year we will be exploring Camp Echockotee at 2513 Doctors Lake Drive\, Orange Park\, FL 32073. \nThis is a family event. Bring anyone you want to come out and have some fun. This will be a day filled with war games\, swimming\, canoeing\, rock wall climbing\, and outdoor games. \nA small concessions stand will be available to feed everyone with a great supply of Hot Dogs\, Burgers\, Chips\, and beverages! \nFor more information or to volunteer to help with this event please contact: Big Horn Moose (Mike Russell) at RecruitmentChief@timucuan.org or (904) 716-9371 or Tenor Bear (Mark Marcellus) atmarcell@comcast.net or 904-673-4660 (mobile) \n Event Cost: FREE!! (small charge for food/beverage) \nEvent Date/Time: September 27th 10am-4pm \nEvent Location: Camp Echockotee\, Orange Park\, FL \nEvent Address: 2513 Doctors Lake Drive\, Orange Park\, FL. 32073 \nEvent Registration: https://www.circlebridge.com/timucuan/login.php (please register so we have a head count for food and activities)
URL:https://nsdjax.org/event-detail/2014-citywide-pow-wow/
LOCATION:Camp Echockotee\, 2513 Doctors Lake Dr\, Orange Park\, FL\, 32073\, United States
CATEGORIES:Federation Event,Recruitment
END:VEVENT
END:VCALENDAR