BEGIN:VCALENDAR
VERSION:2.0
PRODID:-//Native Sons &amp; Daughters of Jacksonville - ECPv6.15.20//NONSGML v1.0//EN
CALSCALE:GREGORIAN
METHOD:PUBLISH
X-WR-CALNAME:Native Sons &amp; Daughters of Jacksonville
X-ORIGINAL-URL:https://nsdjax.org
X-WR-CALDESC:Events for Native Sons &amp; Daughters of Jacksonville
REFRESH-INTERVAL;VALUE=DURATION:PT1H
X-Robots-Tag:noindex
X-PUBLISHED-TTL:PT1H
BEGIN:VTIMEZONE
TZID:America/New_York
BEGIN:DAYLIGHT
TZOFFSETFROM:-0500
TZOFFSETTO:-0400
TZNAME:EDT
DTSTART:20210314T070000
END:DAYLIGHT
BEGIN:STANDARD
TZOFFSETFROM:-0400
TZOFFSETTO:-0500
TZNAME:EST
DTSTART:20211107T060000
END:STANDARD
BEGIN:DAYLIGHT
TZOFFSETFROM:-0500
TZOFFSETTO:-0400
TZNAME:EDT
DTSTART:20220313T070000
END:DAYLIGHT
BEGIN:STANDARD
TZOFFSETFROM:-0400
TZOFFSETTO:-0500
TZNAME:EST
DTSTART:20221106T060000
END:STANDARD
BEGIN:DAYLIGHT
TZOFFSETFROM:-0500
TZOFFSETTO:-0400
TZNAME:EDT
DTSTART:20230312T070000
END:DAYLIGHT
BEGIN:STANDARD
TZOFFSETFROM:-0400
TZOFFSETTO:-0500
TZNAME:EST
DTSTART:20231105T060000
END:STANDARD
END:VTIMEZONE
BEGIN:VEVENT
DTSTART;VALUE=DATE:20220513
DTEND;VALUE=DATE:20220516
DTSTAMP:20260420T075609
CREATED:20220307T183955Z
LAST-MODIFIED:20220411T151809Z
UID:4419-1652400000-1652659199@nsdjax.org
SUMMARY:Girls Spring Longhouse
DESCRIPTION:BIG HOW! \nIt’s time again for father and daughter to convene with their tribes to celebrate the coming spring once more with mother earth. This year’s gathering will at Hanna Park May 13 – 15th. \nPlease join us by registering in advance for the 2022 Girls Spring Longhouse! \nThere will be food provided to the longhouse on Friday the 13th as well as popcorn and candy for a date-appropriate thriller movie night. \nWe will have may great games Saturday the 14th on the beach that will test the will of princesses and father braves alike. As the great sun lowers\, each tribe will provide food for their own tribes to be judged by tribal council. \nAs always\, our gathering will be capped off by our Great Sacred Fire which will include a breaking arrow ceremony for those princesses that are becoming destiny charged. \nPlease join us and REGISTER ASAP so that we may get an accurate headcount. Be aware that RV spots must be paid by both father and princess. Remember\, we use the money to pay for this longhouse\, not future ones. \nThe theme this year is togetherness as we move past the trials of the past years. We look forward to one of the largest and best longhouses we’ve ever had at this awesome sunny beach venue! \nBig How!
URL:https://nsdjax.org/event-detail/2022-girls-spring-longhouse/
LOCATION:Hanna Park\, 500 Wonderwood Dr\, Jacksonville\, FL\, 32233\, United States
CATEGORIES:Federation Event,Longhouse
ATTACH;FMTTYPE=image/jpeg:https://nsdjax.org/wp-content/uploads/HannaParkBoardwalk1.jpg
ORGANIZER;CN="Buddy 'Lion Heart' Greer":MAILTO:tomtombeater@nsdjax.org
END:VEVENT
END:VCALENDAR