BEGIN:VCALENDAR
VERSION:2.0
PRODID:-//Native Sons &amp; Daughters of Jacksonville - ECPv6.15.20//NONSGML v1.0//EN
CALSCALE:GREGORIAN
METHOD:PUBLISH
X-WR-CALNAME:Native Sons &amp; Daughters of Jacksonville
X-ORIGINAL-URL:https://nsdjax.org
X-WR-CALDESC:Events for Native Sons &amp; Daughters of Jacksonville
REFRESH-INTERVAL;VALUE=DURATION:PT1H
X-Robots-Tag:noindex
X-PUBLISHED-TTL:PT1H
BEGIN:VTIMEZONE
TZID:America/New_York
BEGIN:DAYLIGHT
TZOFFSETFROM:-0500
TZOFFSETTO:-0400
TZNAME:EDT
DTSTART:20210314T070000
END:DAYLIGHT
BEGIN:STANDARD
TZOFFSETFROM:-0400
TZOFFSETTO:-0500
TZNAME:EST
DTSTART:20211107T060000
END:STANDARD
BEGIN:DAYLIGHT
TZOFFSETFROM:-0500
TZOFFSETTO:-0400
TZNAME:EDT
DTSTART:20220313T070000
END:DAYLIGHT
BEGIN:STANDARD
TZOFFSETFROM:-0400
TZOFFSETTO:-0500
TZNAME:EST
DTSTART:20221106T060000
END:STANDARD
BEGIN:DAYLIGHT
TZOFFSETFROM:-0500
TZOFFSETTO:-0400
TZNAME:EDT
DTSTART:20230312T070000
END:DAYLIGHT
BEGIN:STANDARD
TZOFFSETFROM:-0400
TZOFFSETTO:-0500
TZNAME:EST
DTSTART:20231105T060000
END:STANDARD
END:VTIMEZONE
BEGIN:VEVENT
DTSTART;TZID=America/New_York:20220326T190000
DTEND;TZID=America/New_York:20220326T210000
DTSTAMP:20260421T141827
CREATED:20211213T191203Z
LAST-MODIFIED:20211213T191203Z
UID:4313-1648321200-1648328400@nsdjax.org
SUMMARY:Icemen Hockey Game
DESCRIPTION:Native Sons & Daughters of Jacksonville will be showing up in force once again to see our Icemen take on the Florida Everblades on Saturday\, March 26\, 2022. Bring your family\, friends\, and neighbors out for an afternoon of exhilarating hockey action. We’ll be seated in the home team’s attack-twice end zone. More info to follow soon on any pre-game or post-game fun. Stay tuned!! \nCost: TBD per person on CircleBridge\nSponsor: Storm Cloud\nDate/Time: March 26th 7PM\nLocation: VyStar Veterans Memorial Arena\nAddress: 300 A Philip Randolph Blvd\, Jacksonville\, FL 32202
URL:https://nsdjax.org/event-detail/2020-hockey-game-2/
LOCATION:VyStar Veterans Memorial Arena\, 300 A Philip Randolph Blvd\, Jacksonville\, FL\, 32202\, United States
CATEGORIES:Federation Event,Sporting Event
ATTACH;FMTTYPE=image/jpeg:https://nsdjax.org/wp-content/uploads/icemen.jpg
ORGANIZER;CN="Rick 'Storm Cloud' Murphy":MAILTO:fedchief@nsdjax.org
END:VEVENT
END:VCALENDAR