BEGIN:VCALENDAR
VERSION:2.0
PRODID:-//Native Sons &amp; Daughters of Jacksonville - ECPv6.15.20//NONSGML v1.0//EN
CALSCALE:GREGORIAN
METHOD:PUBLISH
X-ORIGINAL-URL:https://nsdjax.org
X-WR-CALDESC:Events for Native Sons &amp; Daughters of Jacksonville
REFRESH-INTERVAL;VALUE=DURATION:PT1H
X-Robots-Tag:noindex
X-PUBLISHED-TTL:PT1H
BEGIN:VTIMEZONE
TZID:America/New_York
BEGIN:DAYLIGHT
TZOFFSETFROM:-0500
TZOFFSETTO:-0400
TZNAME:EDT
DTSTART:20200308T070000
END:DAYLIGHT
BEGIN:STANDARD
TZOFFSETFROM:-0400
TZOFFSETTO:-0500
TZNAME:EST
DTSTART:20201101T060000
END:STANDARD
BEGIN:DAYLIGHT
TZOFFSETFROM:-0500
TZOFFSETTO:-0400
TZNAME:EDT
DTSTART:20210314T070000
END:DAYLIGHT
BEGIN:STANDARD
TZOFFSETFROM:-0400
TZOFFSETTO:-0500
TZNAME:EST
DTSTART:20211107T060000
END:STANDARD
BEGIN:DAYLIGHT
TZOFFSETFROM:-0500
TZOFFSETTO:-0400
TZNAME:EDT
DTSTART:20220313T070000
END:DAYLIGHT
BEGIN:STANDARD
TZOFFSETFROM:-0400
TZOFFSETTO:-0500
TZNAME:EST
DTSTART:20221106T060000
END:STANDARD
END:VTIMEZONE
BEGIN:VEVENT
DTSTART;TZID=America/New_York:20210122T150000
DTEND;TZID=America/New_York:20210124T120000
DTSTAMP:20260423T071035
CREATED:20201028T195735Z
LAST-MODIFIED:20210102T001144Z
UID:3946-1611327600-1611489600@nsdjax.org
SUMMARY:Suzie Q. Miller Family Campout
DESCRIPTION:The 11th annual Suzie Q Miller Family Campout will be January 22nd — January 24th\, 2020 at North Florida Christian Camp. So\, gather the family together and enjoy some good old fashioned quality time together under the stars. We will have archery\, BB Guns\, frisbee golf\, human Foosball and other facilities available to us. On Saturday night join us for a firework show and a movie. You can register for tent camping\, RVs (dry camping only no RV hookups available or Cabins (limited supply). There is also an optional signup for a Paint Ball. See Circle Bridge for additional details and registration. \nRegistration is now open \nThis campout is in honor of Suzie Q Miller. Suzie was an active Federation mom married to Rodney Miller (Wild Horse) and mother to Page (Little Pony). She was known to be an awesome person\, wife\, and mother who really supported the program and was active in organizing many events including camp outs. After battling cancer for 5 years\, Suzie joined the Great Spirit in 2010. While with us\, she lived her life to the fullest and made a big impression on many who knew her.
URL:https://nsdjax.org/event-detail/2020-family-campout-2/
LOCATION:North FL Christian Camp\, 6779 Camp Rd\, Keystone Heights\,\, FL\, 32656\, United States
CATEGORIES:Federation Event
ATTACH;FMTTYPE=image/png:https://nsdjax.org/wp-content/uploads/7thSqmFamilyCampoutPatch.png
END:VEVENT
END:VCALENDAR