BEGIN:VCALENDAR
VERSION:2.0
PRODID:-//Native Sons &amp; Daughters of Jacksonville - ECPv6.15.20//NONSGML v1.0//EN
CALSCALE:GREGORIAN
METHOD:PUBLISH
X-WR-CALNAME:Native Sons &amp; Daughters of Jacksonville
X-ORIGINAL-URL:https://nsdjax.org
X-WR-CALDESC:Events for Native Sons &amp; Daughters of Jacksonville
REFRESH-INTERVAL;VALUE=DURATION:PT1H
X-Robots-Tag:noindex
X-PUBLISHED-TTL:PT1H
BEGIN:VTIMEZONE
TZID:America/New_York
BEGIN:DAYLIGHT
TZOFFSETFROM:-0500
TZOFFSETTO:-0400
TZNAME:EDT
DTSTART:20190310T070000
END:DAYLIGHT
BEGIN:STANDARD
TZOFFSETFROM:-0400
TZOFFSETTO:-0500
TZNAME:EST
DTSTART:20191103T060000
END:STANDARD
BEGIN:DAYLIGHT
TZOFFSETFROM:-0500
TZOFFSETTO:-0400
TZNAME:EDT
DTSTART:20200308T070000
END:DAYLIGHT
BEGIN:STANDARD
TZOFFSETFROM:-0400
TZOFFSETTO:-0500
TZNAME:EST
DTSTART:20201101T060000
END:STANDARD
BEGIN:DAYLIGHT
TZOFFSETFROM:-0500
TZOFFSETTO:-0400
TZNAME:EDT
DTSTART:20210314T070000
END:DAYLIGHT
BEGIN:STANDARD
TZOFFSETFROM:-0400
TZOFFSETTO:-0500
TZNAME:EST
DTSTART:20211107T060000
END:STANDARD
END:VTIMEZONE
BEGIN:VEVENT
DTSTART;TZID=America/New_York:20201025T150000
DTEND;TZID=America/New_York:20201025T180000
DTSTAMP:20260423T182252
CREATED:20200901T202804Z
LAST-MODIFIED:20201014T183034Z
UID:3881-1603638000-1603648800@nsdjax.org
SUMMARY:Costume Bowling
DESCRIPTION:Don’t miss Costume Bowling Sunday\, October 25th at earlier time of 3pm at the Bowl America in Mandarin (10333 San Jose Blvd).  \nWe will be awarding a trophy for Funniest Costume\, Scariest Costume\, Most Creative Homemade Costume\, and a special Trophy (and bragging rights) for the most active tribe(This includes Dads in costume). This event is open to your whole family and friends as well as potential new members. Everyone should wear their Halloween costume. Cost $12 per child. Register on CircleBridge. \n 
URL:https://nsdjax.org/event-detail/2020-costume-bowling-2/
LOCATION:Bowlero\, 10333 San Jose Blvd\, Jacksonville\, FL\, 32257\, United States
CATEGORIES:Federation Event
ATTACH;FMTTYPE=image/jpeg:https://nsdjax.org/wp-content/uploads/Costume-Bowling-2017-Winners.jpg
ORGANIZER;CN="Stewart 'Running Wombat' Morris":MAILTO:webspinner@nsdjax.org
END:VEVENT
END:VCALENDAR