BEGIN:VCALENDAR
VERSION:2.0
PRODID:-//Native Sons &amp; Daughters of Jacksonville - ECPv6.15.20//NONSGML v1.0//EN
CALSCALE:GREGORIAN
METHOD:PUBLISH
X-WR-CALNAME:Native Sons &amp; Daughters of Jacksonville
X-ORIGINAL-URL:https://nsdjax.org
X-WR-CALDESC:Events for Native Sons &amp; Daughters of Jacksonville
REFRESH-INTERVAL;VALUE=DURATION:PT1H
X-Robots-Tag:noindex
X-PUBLISHED-TTL:PT1H
BEGIN:VTIMEZONE
TZID:America/New_York
BEGIN:DAYLIGHT
TZOFFSETFROM:-0500
TZOFFSETTO:-0400
TZNAME:EDT
DTSTART:20190310T070000
END:DAYLIGHT
BEGIN:STANDARD
TZOFFSETFROM:-0400
TZOFFSETTO:-0500
TZNAME:EST
DTSTART:20191103T060000
END:STANDARD
BEGIN:DAYLIGHT
TZOFFSETFROM:-0500
TZOFFSETTO:-0400
TZNAME:EDT
DTSTART:20200308T070000
END:DAYLIGHT
BEGIN:STANDARD
TZOFFSETFROM:-0400
TZOFFSETTO:-0500
TZNAME:EST
DTSTART:20201101T060000
END:STANDARD
BEGIN:DAYLIGHT
TZOFFSETFROM:-0500
TZOFFSETTO:-0400
TZNAME:EDT
DTSTART:20210314T070000
END:DAYLIGHT
BEGIN:STANDARD
TZOFFSETFROM:-0400
TZOFFSETTO:-0500
TZNAME:EST
DTSTART:20211107T060000
END:STANDARD
END:VTIMEZONE
BEGIN:VEVENT
DTSTART;TZID=America/New_York:20201003T100000
DTEND;TZID=America/New_York:20201003T160000
DTSTAMP:20260423T182252
CREATED:20200818T204758Z
LAST-MODIFIED:20200818T204758Z
UID:3894-1601719200-1601740800@nsdjax.org
SUMMARY:2020 Citywide POWWOW!
DESCRIPTION:Big HOW Timucuan Longhouse!!! \nWe’re back after a rough end to last year’s program year\, and we’re are going to start 2020 off with another awesome Citywide PowWow at North Florida Christian Camp. \nPlease join us on Saturday October 3rd from 10:00 am to 4:00 pm. For your 2020 Citywide PowWow. Immediately after will be our 2020 Jax Cracker Pinecar derby race from 4:00 pm to 7:00 pm \nAs always\, Native Sons and Daughters members attend Citywide PowWow FOR FREE!  Please register for your FREE day pass on Circlebridge to receive your 2020 Citywide Powwow Patch! \nActivities are appropriate for all children aged 4 to 15. Families are encouraged to attend together and bring friends. This is a great opportunity for families to invite friends out to experience the Native Sons and Daughters programs. (All Guests will receive A Vintage Native Sons and Daughters T-Shirt) While supplies last. \nIncluded at no charge: \n  \n \n\nSlip n Slide – The Longest one you will ever see.\nTHE BLOB Launch your friends into the lake “100lb difference between the launcher and the launched”\nCanoeing\nPaddle Boarding\nFishing “Bring your own pole\, Catch and release”\nSwimming pool (An Adult Must Be Present while kids swim AT ALL TIMES)\nLake Swimming\nArchery Range\nBB gun Range\nCarpet Ball “A MUST DO at North Florida Christian Camp”\nGaga Ball\nHiking\nDisc Golf\nHuman Foosball “Newly Updated Pitch”\nVolleyball\nBasketball Courts\n\nOther add-ons in circlebridge will include an awesome 500ft zip line through the treetops “Limited Space Available”\, and the 65ft tall tandem \n“SCREAM SWING” \nAlso\, don’t forget to buy your “Citywide Meal Ticket” for a delicious\, freshly prepared lunch from our smoker by the LEDENDARY Timucuan Chef’s! \nBring a Guest -Free! \nDon’t Forget this is our biggest recruitment event. Bring your friends and little one’s friends. All Guests will receive a Free Vintage NSD T-shirt While Supplies last! \nCitywide Meal Ticket $7:00 \nPre-Purchase on Circlebridge or Bring Cash to the Event \n  \nOur LEGENDARY Timucuan Chef’s will have our famous Timucuan Longhouse smoker fired up and turning out barbeque lunches in the concessions area!! Only $7 for a pulled pork sandwich or 2 all beef hotdogs\, plus a bag of chips AND a drink! \n  \n  \nMake it a campout with multiply options. Come early and stay late in a multiply options. On site lodging or bring your own tent or RV. \nCamping Options \n  \nOnsite Lodging (First 20 people Will be in the Awesome Lakeside lodge and Bunk House) Which has \n\nFull kitchen\, Common area W/ couches\nGame room w/ pool\, Foosball\, and ping pong\nprojector bring your DVD\, Laptop\, or whatever you might need for a late-night movie.\n$25.00/ night per person\n\nOnce the Lakehouse Lodge & Bunk House fills up\, other Lodging options will be assigned based on amount of people registered. \n  \nRV Camping – Water and Electric at all sites. (7 sites available) 2-Night Price Only \n\n$50 first person $15 per person after that (max 5 people)\n\nSites 1-3 Lakeside & shaded\, with a great view from under the oak trees\nSites 4-7 Sunny\, open spots near the pool & restrooms \nPrimitive tent Camping \n\n$15.00/ per person\nCamp where ever you like\n\nBathrooms Are located near the pool\, Dining hall\, or Lakehouse Lodge. \n  \n\n\n\nAdditional (Premium) Land Activities – Register on Circlebridge or bring cash to the event \n  \n\n\n\n  \n$15.00 – The 500 ft. Zip Line (2 zip-trips) \n(85 lbs or more\, please) \nStart off on the ”Bunny slope” learning the ropes from your trainer\, then get ready for 2 rides of an estimated 500 feet of flying through the treetops! \n \n$7.00 – The “Scream Swing” (1 Swing) \n(Two riders per swing) \nHold on tight\, because this wild ride lifts you and your partner 65 feet in the air before letting you loose on the longest\, wildest swing this side of the St. Johns River!\n\n\n \n \n\n\n\n\n\n\n\n  \n  \n\n\n\n\n\n\n\n\n\n\n\n\n\n\n\n\n\n\n\n 
URL:https://nsdjax.org/event-detail/2018-citywide-pow-wow-2-2/
LOCATION:North FL Christian Camp\, 6779 Camp Rd\, Keystone Heights\,\, FL\, 32656\, United States
CATEGORIES:Federation Event
ATTACH;FMTTYPE=image/png:https://nsdjax.org/wp-content/uploads/MainPicReversed.png
ORGANIZER;CN="Jason 'Red Snapper' Bradshaw":MAILTO:jbradshaw@mcveighmangum.com
END:VEVENT
BEGIN:VEVENT
DTSTART;TZID=America/New_York:20201003T160000
DTEND;TZID=America/New_York:20201003T190000
DTSTAMP:20260423T182252
CREATED:20200818T205628Z
LAST-MODIFIED:20200922T205934Z
UID:3896-1601740800-1601751600@nsdjax.org
SUMMARY:Jax Cracker Race 2020
DESCRIPTION:  \nLadies and Gentlemen\, START YOUR ENGINES! It’s time for our Annual JAX CRACKER RACE! You and your brave and/or princess get a plain block of pinewood\, 4 wheels\, and 4 axles. The rest is up to you to shape\, cut\, file\, sand\, glue and paint whatever creation you want! There is no limit to your creativity. Top 3 places (Combined Boys and Girls) get trophies for Speed AND Best in Show. The race will start at 4PM on Saturday\, October 3rd immediately after the Citywide Pow Wow at the North Florida Christian Camp (6779 Camp Road\, Keystone Heights\, FL 32656). We will follow the National Certified Pinewood Derby Agency Rules. Register TODAY and get your cart kit started now. Let the best car win! \nRegister on CircleBridge \nView Official Rules \nThe Annual Native Sons & Daughters’ Jax Cracker Race\nOctober 3rd 4PM – 7PM\nImmediately after the Citywide Pow Wow.\nNorth Florida Christian Camp\n6779 Camp Road\nKeystone Heights\, FL 32656\n$10/per car – Including a patch\nRegistration opens now \n  \n***Super secret DADS RACE will follow the kids race – See page 2 of the rules for info\, the dad’s race is free\, but you have to order a separate car kit online- and any pine car kit is acceptable.  MAJOR BRAGGING RIGHTS AND PRIZE ARE ON OFFER!***
URL:https://nsdjax.org/event-detail/2020-jax-cracker-race/
LOCATION:North FL Christian Camp\, 6779 Camp Rd\, Keystone Heights\,\, FL\, 32656\, United States
CATEGORIES:Federation Event
ATTACH;FMTTYPE=image/png:https://nsdjax.org/wp-content/uploads/pinewood.png
END:VEVENT
END:VCALENDAR