BEGIN:VCALENDAR
VERSION:2.0
PRODID:-//Native Sons &amp; Daughters of Jacksonville - ECPv6.15.20//NONSGML v1.0//EN
CALSCALE:GREGORIAN
METHOD:PUBLISH
X-ORIGINAL-URL:https://nsdjax.org
X-WR-CALDESC:Events for Native Sons &amp; Daughters of Jacksonville
REFRESH-INTERVAL;VALUE=DURATION:PT1H
X-Robots-Tag:noindex
X-PUBLISHED-TTL:PT1H
BEGIN:VTIMEZONE
TZID:America/New_York
BEGIN:DAYLIGHT
TZOFFSETFROM:-0500
TZOFFSETTO:-0400
TZNAME:EDT
DTSTART:20190310T070000
END:DAYLIGHT
BEGIN:STANDARD
TZOFFSETFROM:-0400
TZOFFSETTO:-0500
TZNAME:EST
DTSTART:20191103T060000
END:STANDARD
BEGIN:DAYLIGHT
TZOFFSETFROM:-0500
TZOFFSETTO:-0400
TZNAME:EDT
DTSTART:20200308T070000
END:DAYLIGHT
BEGIN:STANDARD
TZOFFSETFROM:-0400
TZOFFSETTO:-0500
TZNAME:EST
DTSTART:20201101T060000
END:STANDARD
BEGIN:DAYLIGHT
TZOFFSETFROM:-0500
TZOFFSETTO:-0400
TZNAME:EDT
DTSTART:20210314T070000
END:DAYLIGHT
BEGIN:STANDARD
TZOFFSETFROM:-0400
TZOFFSETTO:-0500
TZNAME:EST
DTSTART:20211107T060000
END:STANDARD
END:VTIMEZONE
BEGIN:VEVENT
DTSTART;VALUE=DATE:20200417
DTEND;VALUE=DATE:20200420
DTSTAMP:20260424T084835
CREATED:20200113T170924Z
LAST-MODIFIED:20200330T231852Z
UID:3698-1587081600-1587340799@nsdjax.org
SUMMARY:**POSTPONED** Girls Spring Longhouse
DESCRIPTION:Big How!! \nJoin us for the Girls Spring Longhouse at Kathryn Abbey Hanna Park in beautiful Atlantic Beach\, FL on April 17-19th.  The park has a 60-acre fresh water lake\, 20 miles of hiking and biking trails\, 1.5 miles of white sandy beach. We have a great longhouse planned this Spring with a Tribe cooking competition and beach activities. There will be tent (w/ electric & water) and RV campsites available and activities such as hiking\, biking\, fishing\, canoeing\, surfing and swimming. \nBe sure to register and make some lifelong memories with your princess!! \nCost: $30 for tent campers \n$35 for RV campers – Please use our Sign Up Genius to ensure you get the correct RV sized site \n  \n 
URL:https://nsdjax.org/event-detail/2020-girls-spring-longhouse/
LOCATION:Hanna Park\, 500 Wonderwood Dr\, Jacksonville\, FL\, 32233\, United States
CATEGORIES:Federation Event,Longhouse
ATTACH;FMTTYPE=image/jpeg:https://nsdjax.org/wp-content/uploads/hanna-entrance.jpg
END:VEVENT
END:VCALENDAR