BEGIN:VCALENDAR
VERSION:2.0
PRODID:-//Native Sons &amp; Daughters of Jacksonville - ECPv6.15.20//NONSGML v1.0//EN
CALSCALE:GREGORIAN
METHOD:PUBLISH
X-WR-CALNAME:Native Sons &amp; Daughters of Jacksonville
X-ORIGINAL-URL:https://nsdjax.org
X-WR-CALDESC:Events for Native Sons &amp; Daughters of Jacksonville
REFRESH-INTERVAL;VALUE=DURATION:PT1H
X-Robots-Tag:noindex
X-PUBLISHED-TTL:PT1H
BEGIN:VTIMEZONE
TZID:America/New_York
BEGIN:DAYLIGHT
TZOFFSETFROM:-0500
TZOFFSETTO:-0400
TZNAME:EDT
DTSTART:20180311T070000
END:DAYLIGHT
BEGIN:STANDARD
TZOFFSETFROM:-0400
TZOFFSETTO:-0500
TZNAME:EST
DTSTART:20181104T060000
END:STANDARD
BEGIN:DAYLIGHT
TZOFFSETFROM:-0500
TZOFFSETTO:-0400
TZNAME:EDT
DTSTART:20190310T070000
END:DAYLIGHT
BEGIN:STANDARD
TZOFFSETFROM:-0400
TZOFFSETTO:-0500
TZNAME:EST
DTSTART:20191103T060000
END:STANDARD
BEGIN:DAYLIGHT
TZOFFSETFROM:-0500
TZOFFSETTO:-0400
TZNAME:EDT
DTSTART:20200308T070000
END:DAYLIGHT
BEGIN:STANDARD
TZOFFSETFROM:-0400
TZOFFSETTO:-0500
TZNAME:EST
DTSTART:20201101T060000
END:STANDARD
END:VTIMEZONE
BEGIN:VEVENT
DTSTART;TZID=America/New_York:20190427T183000
DTEND;TZID=America/New_York:20190427T220000
DTSTAMP:20260425T175628
CREATED:20190109T155202Z
LAST-MODIFIED:20190304T134958Z
UID:2998-1556389800-1556402400@nsdjax.org
SUMMARY:Jumbo Shrimp Game and Campout
DESCRIPTION:Shrimp Game and Campout!! \nAs we wrap up another year….another summer is upon us…how many do we have left with our kids.. \nCome out to the ballpark ( and bring mom too!) To cheer on the Suns and have some fun!   Tickets include a food voucher and patch\, along with access  after the game for camping on the field with a movie to be played on the big screen. \nPack light and be ready for some late night fun with over 400 people on the field it’s an experience you and your child will remember. \nTickets and patches will be picked up by Nation elders and we will be standing outside the 3rd base gate to hand them out prior to the game. \nGet your tribes organized to sign up on CircleBridge  by April 19th \n\n$17 for ticket\, food voucher\, patch and camping\n$10 for baseball ticket only\n\nBring footballs\, frisbees and lawn games that can be easily set up and played on the outfield after the game. \nIf you have any questions please call 954-254-7009. \nChief Crockwater
URL:https://nsdjax.org/event-detail/2019-baseball-campout/
LOCATION:Baseball Grounds of Jacksonville\, 301 A Philip Randolph Blvd\, Jacksonville\, FL\, 32202\, United States
CATEGORIES:Federation Event,Sporting Event
ATTACH;FMTTYPE=image/jpeg:https://nsdjax.org/wp-content/uploads/baseball.jpg
END:VEVENT
END:VCALENDAR