BEGIN:VCALENDAR
VERSION:2.0
PRODID:-//Native Sons &amp; Daughters of Jacksonville - ECPv6.15.20//NONSGML v1.0//EN
CALSCALE:GREGORIAN
METHOD:PUBLISH
X-ORIGINAL-URL:https://nsdjax.org
X-WR-CALDESC:Events for Native Sons &amp; Daughters of Jacksonville
REFRESH-INTERVAL;VALUE=DURATION:PT1H
X-Robots-Tag:noindex
X-PUBLISHED-TTL:PT1H
BEGIN:VTIMEZONE
TZID:America/New_York
BEGIN:DAYLIGHT
TZOFFSETFROM:-0500
TZOFFSETTO:-0400
TZNAME:EDT
DTSTART:20180311T070000
END:DAYLIGHT
BEGIN:STANDARD
TZOFFSETFROM:-0400
TZOFFSETTO:-0500
TZNAME:EST
DTSTART:20181104T060000
END:STANDARD
BEGIN:DAYLIGHT
TZOFFSETFROM:-0500
TZOFFSETTO:-0400
TZNAME:EDT
DTSTART:20190310T070000
END:DAYLIGHT
BEGIN:STANDARD
TZOFFSETFROM:-0400
TZOFFSETTO:-0500
TZNAME:EST
DTSTART:20191103T060000
END:STANDARD
BEGIN:DAYLIGHT
TZOFFSETFROM:-0500
TZOFFSETTO:-0400
TZNAME:EDT
DTSTART:20200308T070000
END:DAYLIGHT
BEGIN:STANDARD
TZOFFSETFROM:-0400
TZOFFSETTO:-0500
TZNAME:EST
DTSTART:20201101T060000
END:STANDARD
END:VTIMEZONE
BEGIN:VEVENT
DTSTART;VALUE=DATE:20190412
DTEND;VALUE=DATE:20190415
DTSTAMP:20260425T163925
CREATED:20190109T160503Z
LAST-MODIFIED:20190412T005546Z
UID:3000-1555027200-1555286399@nsdjax.org
SUMMARY:Girls Spring Longhouse
DESCRIPTION:Big How!! \nJoin us for the Girls Spring Longhouse at Kathryn Abbey Hanna Park in beautiful Atlantic Beach\, FL on April 12-14. \nThe park has a 60-acre fresh water lake\, 20 miles of hiking and biking trails\, 1.5 miles of white sandy beach. \nWe have a great longhouse planned this Spring with a Fed dinner\, beach activities and Luau/tropical theme. \nThere will be tent (w/ electric & water) and RV campsites available and activities such as hiking\, biking\, fishing\, canoeing\, surfing and swimming. \nIf you require an RV site please enter the size required on the Google sheet  \nBe sure to register and make some lifelong memories with your princess!! \n2019 Girls Spring Longhouse Schedule \n  \nCampsites Assignments for NSD \nCampsite Assignments Map \n 
URL:https://nsdjax.org/event-detail/2019-girls-spring-longhouse/
LOCATION:Hanna Park\, 500 Wonderwood Dr\, Jacksonville\, FL\, 32233\, United States
CATEGORIES:Federation Event,Longhouse
ATTACH;FMTTYPE=image/jpeg:https://nsdjax.org/wp-content/uploads/hanna-entrance.jpg
END:VEVENT
END:VCALENDAR