BEGIN:VCALENDAR
VERSION:2.0
PRODID:-//Native Sons &amp; Daughters of Jacksonville - ECPv6.15.20//NONSGML v1.0//EN
CALSCALE:GREGORIAN
METHOD:PUBLISH
X-ORIGINAL-URL:https://nsdjax.org
X-WR-CALDESC:Events for Native Sons &amp; Daughters of Jacksonville
REFRESH-INTERVAL;VALUE=DURATION:PT1H
X-Robots-Tag:noindex
X-PUBLISHED-TTL:PT1H
BEGIN:VTIMEZONE
TZID:America/New_York
BEGIN:DAYLIGHT
TZOFFSETFROM:-0500
TZOFFSETTO:-0400
TZNAME:EDT
DTSTART:20180311T070000
END:DAYLIGHT
BEGIN:STANDARD
TZOFFSETFROM:-0400
TZOFFSETTO:-0500
TZNAME:EST
DTSTART:20181104T060000
END:STANDARD
BEGIN:DAYLIGHT
TZOFFSETFROM:-0500
TZOFFSETTO:-0400
TZNAME:EDT
DTSTART:20190310T070000
END:DAYLIGHT
BEGIN:STANDARD
TZOFFSETFROM:-0400
TZOFFSETTO:-0500
TZNAME:EST
DTSTART:20191103T060000
END:STANDARD
BEGIN:DAYLIGHT
TZOFFSETFROM:-0500
TZOFFSETTO:-0400
TZNAME:EDT
DTSTART:20200308T070000
END:DAYLIGHT
BEGIN:STANDARD
TZOFFSETFROM:-0400
TZOFFSETTO:-0500
TZNAME:EST
DTSTART:20201101T060000
END:STANDARD
END:VTIMEZONE
BEGIN:VEVENT
DTSTART;TZID=America/New_York:20190302T190000
DTEND;TZID=America/New_York:20190302T220000
DTSTAMP:20260425T175306
CREATED:20181016T134611Z
LAST-MODIFIED:20190122T191858Z
UID:2861-1551553200-1551564000@nsdjax.org
SUMMARY:Monster Jam
DESCRIPTION:SATURDAY!  SATURDAY!   SATURDAY! \nThe mighty Timucuan Federation will go to the enormous iron teepee and watch the big iron ponies FLY\, FLIP\, RUSH\, and CRUSH. Come watch all the action with your braves and princesses. Go early and meet the drivers and get close to the trucks with a Pit Pass (not included). \nEvent Sponsor: Storm Cloud\nEvent Date: March 2\, 2019\nEvent Schedule: Pit Party 2:30pm – 5:30pm\, Gate open at 5:00pm\, Show time 7:00pm\nEvent Location: TIAA Bank Field\nEvent Address: 1 Everbank Field Dr\, Jacksonville\, FL 32202\n\nMore Info: Monster Jam Site \nRegistration extended to 1/27 on CircleBridge
URL:https://nsdjax.org/event-detail/2019-monster-jam/
LOCATION:TIAA Bank Field\, 1 Everbank Field Dr\, Jacksonville\, FL\, 32202\, United States
CATEGORIES:Federation Event,Sporting Event
ATTACH;FMTTYPE=image/png:https://nsdjax.org/wp-content/uploads/monster-jam-2019.png
ORGANIZER;CN="Rick 'Storm Cloud' Murphy":MAILTO:fedchief@nsdjax.org
END:VEVENT
END:VCALENDAR