BEGIN:VCALENDAR
VERSION:2.0
PRODID:-//Native Sons &amp; Daughters of Jacksonville - ECPv6.15.20//NONSGML v1.0//EN
CALSCALE:GREGORIAN
METHOD:PUBLISH
X-WR-CALNAME:Native Sons &amp; Daughters of Jacksonville
X-ORIGINAL-URL:https://nsdjax.org
X-WR-CALDESC:Events for Native Sons &amp; Daughters of Jacksonville
REFRESH-INTERVAL;VALUE=DURATION:PT1H
X-Robots-Tag:noindex
X-PUBLISHED-TTL:PT1H
BEGIN:VTIMEZONE
TZID:America/New_York
BEGIN:DAYLIGHT
TZOFFSETFROM:-0500
TZOFFSETTO:-0400
TZNAME:EDT
DTSTART:20180311T070000
END:DAYLIGHT
BEGIN:STANDARD
TZOFFSETFROM:-0400
TZOFFSETTO:-0500
TZNAME:EST
DTSTART:20181104T060000
END:STANDARD
BEGIN:DAYLIGHT
TZOFFSETFROM:-0500
TZOFFSETTO:-0400
TZNAME:EDT
DTSTART:20190310T070000
END:DAYLIGHT
BEGIN:STANDARD
TZOFFSETFROM:-0400
TZOFFSETTO:-0500
TZNAME:EST
DTSTART:20191103T060000
END:STANDARD
BEGIN:DAYLIGHT
TZOFFSETFROM:-0500
TZOFFSETTO:-0400
TZNAME:EDT
DTSTART:20200308T070000
END:DAYLIGHT
BEGIN:STANDARD
TZOFFSETFROM:-0400
TZOFFSETTO:-0500
TZNAME:EST
DTSTART:20201101T060000
END:STANDARD
END:VTIMEZONE
BEGIN:VEVENT
DTSTART;TZID=America/New_York:20190118T150000
DTEND;TZID=America/New_York:20190120T120000
DTSTAMP:20260425T201659
CREATED:20181104T140614Z
LAST-MODIFIED:20190115T160519Z
UID:2899-1547823600-1547985600@nsdjax.org
SUMMARY:Suzie Q. Miller Family Campout
DESCRIPTION:The 9th annual Suzie Q Miller Family Campout will be January 18th – January 20th at Camp Montgomery. So gather the family together and enjoy some good old fashioned quality time together under the stars. We will have archery\, canoeing\, hiking\, frisbee golf\, fishing and other facilities available to us. On Saturday night join us for a federation feast – meat will be provided by the federation and tribes will provide side dishes. You can register for Tent camping\, RVs slips (limited supply) or Cabins (limited supply).  There is also an optional signup for a Challenge Course. \nRegistration and additional details are available on Circle Bridge.  \nSign up for side dishes \nSign up for activity assistance \nThis weekend is convenient for a family campout as it does not conflict with the Super Bowl and is the weekend before MLK Day. See additional detail about Camp Montgomery \nThis campout is in honor of Suzie Q Miller. Suzie was an active Federation mom married to Rodney Miller (Wild Horse) and mother to Page (Little Pony). She was known to be an awesome person\, wife\, and mother who really supported the program and was active in organizing many events including campouts. After battling cancer for 5 years\, Suzie joined the Great Spirit in 2010. While with us\, she lived her life to the fullest and made a big impression on many who knew her.
URL:https://nsdjax.org/event-detail/2019-family-campout/
LOCATION:Camp Montgomery\, 88 SE 75th St\, Starke\, FL\, 32091\, United States
CATEGORIES:Federation Event
ATTACH;FMTTYPE=image/png:https://nsdjax.org/wp-content/uploads/mont.png
END:VEVENT
END:VCALENDAR