BEGIN:VCALENDAR
VERSION:2.0
PRODID:-//Native Sons &amp; Daughters of Jacksonville - ECPv6.15.20//NONSGML v1.0//EN
CALSCALE:GREGORIAN
METHOD:PUBLISH
X-ORIGINAL-URL:https://nsdjax.org
X-WR-CALDESC:Events for Native Sons &amp; Daughters of Jacksonville
REFRESH-INTERVAL;VALUE=DURATION:PT1H
X-Robots-Tag:noindex
X-PUBLISHED-TTL:PT1H
BEGIN:VTIMEZONE
TZID:America/New_York
BEGIN:DAYLIGHT
TZOFFSETFROM:-0500
TZOFFSETTO:-0400
TZNAME:EDT
DTSTART:20170312T070000
END:DAYLIGHT
BEGIN:STANDARD
TZOFFSETFROM:-0400
TZOFFSETTO:-0500
TZNAME:EST
DTSTART:20171105T060000
END:STANDARD
BEGIN:DAYLIGHT
TZOFFSETFROM:-0500
TZOFFSETTO:-0400
TZNAME:EDT
DTSTART:20180311T070000
END:DAYLIGHT
BEGIN:STANDARD
TZOFFSETFROM:-0400
TZOFFSETTO:-0500
TZNAME:EST
DTSTART:20181104T060000
END:STANDARD
BEGIN:DAYLIGHT
TZOFFSETFROM:-0500
TZOFFSETTO:-0400
TZNAME:EDT
DTSTART:20190310T070000
END:DAYLIGHT
BEGIN:STANDARD
TZOFFSETFROM:-0400
TZOFFSETTO:-0500
TZNAME:EST
DTSTART:20191103T060000
END:STANDARD
END:VTIMEZONE
BEGIN:VEVENT
DTSTART;TZID=America/New_York:20181216T130000
DTEND;TZID=America/New_York:20181216T160000
DTSTAMP:20260425T220009
CREATED:20181009T234839Z
LAST-MODIFIED:20181009T234839Z
UID:2849-1544965200-1544976000@nsdjax.org
SUMMARY:Jacksonville Jaguars Game
DESCRIPTION:  \nBig How!  This is Chief Tomahawk here with another exciting event planned for everyone.  Wear your program T-Shirts and get ready to scream and be loud.  It is time to come see your Jacksonville Jaguars host the Washington Redskins at TIAA field.  We will have a total of 50 tickets for sale\, and we will be sitting in sections 415 and 416.  Please begin signing up now\, so you can be one of the 50 people to represent the Native Sons and Daughters. \n  \nDUUUVAL!!! \n  \nI hope to see you all there\, \n  \nChief Tomahawk \n  \n  \nGame: Jacksonville Jaguars vs. Washington Redskins\nSponsor: Chief Tomahawk\nDate/Time: December 16\, 2018 – 1:00 pm kickoff\nLocation: TIAA Field\nAddress: 1 Everbank Field Dr\, Jacksonville Beach\, FL 322022\nCost: $43 per person on CircleBridge
URL:https://nsdjax.org/event-detail/jacksonville-jaguars-game-2/
LOCATION:TIAA Bank Field\, 1 Everbank Field Dr\, Jacksonville\, FL\, 32202\, United States
CATEGORIES:Federation Event,Sporting Event
ATTACH;FMTTYPE=image/jpeg:https://nsdjax.org/wp-content/uploads/jags-game.jpg
END:VEVENT
END:VCALENDAR