BEGIN:VCALENDAR
VERSION:2.0
PRODID:-//Native Sons &amp; Daughters of Jacksonville - ECPv6.15.20//NONSGML v1.0//EN
CALSCALE:GREGORIAN
METHOD:PUBLISH
X-ORIGINAL-URL:https://nsdjax.org
X-WR-CALDESC:Events for Native Sons &amp; Daughters of Jacksonville
REFRESH-INTERVAL;VALUE=DURATION:PT1H
X-Robots-Tag:noindex
X-PUBLISHED-TTL:PT1H
BEGIN:VTIMEZONE
TZID:America/New_York
BEGIN:DAYLIGHT
TZOFFSETFROM:-0500
TZOFFSETTO:-0400
TZNAME:EDT
DTSTART:20170312T070000
END:DAYLIGHT
BEGIN:STANDARD
TZOFFSETFROM:-0400
TZOFFSETTO:-0500
TZNAME:EST
DTSTART:20171105T060000
END:STANDARD
BEGIN:DAYLIGHT
TZOFFSETFROM:-0500
TZOFFSETTO:-0400
TZNAME:EDT
DTSTART:20180311T070000
END:DAYLIGHT
BEGIN:STANDARD
TZOFFSETFROM:-0400
TZOFFSETTO:-0500
TZNAME:EST
DTSTART:20181104T060000
END:STANDARD
BEGIN:DAYLIGHT
TZOFFSETFROM:-0500
TZOFFSETTO:-0400
TZNAME:EDT
DTSTART:20190310T070000
END:DAYLIGHT
BEGIN:STANDARD
TZOFFSETFROM:-0400
TZOFFSETTO:-0500
TZNAME:EST
DTSTART:20191103T060000
END:STANDARD
END:VTIMEZONE
BEGIN:VEVENT
DTSTART;TZID=America/New_York:20181208T120000
DTEND;TZID=America/New_York:20181208T140000
DTSTAMP:20260425T220027
CREATED:20180910T145138Z
LAST-MODIFIED:20181104T143239Z
UID:2761-1544270400-1544277600@nsdjax.org
SUMMARY:Holiday Ice Skate
DESCRIPTION:Our annual Holiday Ice Skating Party and Toys for Tots drive is the perfect way to kick off the holiday season. Our event will be held on Saturday\, December 8th\, from 12:00 pm to 2:00 pm at Jacksonville Ice & Sportsplex\, and will be open to family members and friends.\nIf you’ve never been ice skating before\, I encourage you to come discover how much fun you’ve been missing. Beginners and pros alike have a wonderful time on the ice. The rink has plastic skating trainers (walkers)\, like training wheels for the ice\, available for the absolute beginners. \nPut on a scarf and gloves\, and head out for a fun afternoon ice skating with your family. Don’t forget to bring a new unwrapped toy for Toys for Tots. The US Marines Corp will be there to collect our toy donations. \nBig How! \nIron Wolf \nRegister for $13 per skater on CircleBridge or $15 per skater at the door (cash only)
URL:https://nsdjax.org/event-detail/2018-holiday-ice-skate/
LOCATION:Jacksonville Ice & Sportsplex\, 3605 Philips Hwy\, Jacksonville\, FL\, 32207\, United States
CATEGORIES:Federation Event
ATTACH;FMTTYPE=image/png:https://nsdjax.org/wp-content/uploads/ice-skating-ad.png
END:VEVENT
END:VCALENDAR