BEGIN:VCALENDAR
VERSION:2.0
PRODID:-//Native Sons &amp; Daughters of Jacksonville - ECPv6.15.20//NONSGML v1.0//EN
CALSCALE:GREGORIAN
METHOD:PUBLISH
X-ORIGINAL-URL:https://nsdjax.org
X-WR-CALDESC:Events for Native Sons &amp; Daughters of Jacksonville
REFRESH-INTERVAL;VALUE=DURATION:PT1H
X-Robots-Tag:noindex
X-PUBLISHED-TTL:PT1H
BEGIN:VTIMEZONE
TZID:America/New_York
BEGIN:DAYLIGHT
TZOFFSETFROM:-0500
TZOFFSETTO:-0400
TZNAME:EDT
DTSTART:20210314T070000
END:DAYLIGHT
BEGIN:STANDARD
TZOFFSETFROM:-0400
TZOFFSETTO:-0500
TZNAME:EST
DTSTART:20211107T060000
END:STANDARD
BEGIN:DAYLIGHT
TZOFFSETFROM:-0500
TZOFFSETTO:-0400
TZNAME:EDT
DTSTART:20220313T070000
END:DAYLIGHT
BEGIN:STANDARD
TZOFFSETFROM:-0400
TZOFFSETTO:-0500
TZNAME:EST
DTSTART:20221106T060000
END:STANDARD
BEGIN:DAYLIGHT
TZOFFSETFROM:-0500
TZOFFSETTO:-0400
TZNAME:EDT
DTSTART:20230312T070000
END:DAYLIGHT
BEGIN:STANDARD
TZOFFSETFROM:-0400
TZOFFSETTO:-0500
TZNAME:EST
DTSTART:20231105T060000
END:STANDARD
END:VTIMEZONE
BEGIN:VEVENT
DTSTART;TZID=America/New_York:20220220T150000
DTEND;TZID=America/New_York:20220220T170000
DTSTAMP:20260421T141838
CREATED:20210825T201347Z
LAST-MODIFIED:20220215T194218Z
UID:4255-1645369200-1645376400@nsdjax.org
SUMMARY:Valentines Heartbreaker Disc Golf Tournament
DESCRIPTION:We are holding our annual Valentines Day Heart Breaker Disc Golf Tournament at Fore Palms Disc Golf Course at Ed Austin Park \nPark by the playground and check in at the “clubhouse” (Blue Canopy) before heading out onto the 9 hole course. Afterwards relax with a soda and snack. \nPrizes will be awarded to the lowest girls and boys scores (numbers permitting) \nPlenty of room for social distancing \n  \nThis is a Patch event and will count towards OWB and Coup Points for TOTY \n  \nRules and Scorecard – VHB 2022 Scorecard
URL:https://nsdjax.org/event-detail/2022-valentines-disc-golf/
LOCATION:Fore Palms Disc Golf Course\, 11751 McCormick Rd\,\, Jacksonville\, 32225\, United States
CATEGORIES:Federation Event
ATTACH;FMTTYPE=image/jpeg:https://nsdjax.org/wp-content/uploads/ForePalms.jpg
ORGANIZER;CN="Stewart 'Running Wombat' Morris":MAILTO:webspinner@nsdjax.org
END:VEVENT
BEGIN:VEVENT
DTSTART;TZID=America/New_York:20220226T180000
DTEND;TZID=America/New_York:20220227T073000
DTSTAMP:20260421T141838
CREATED:20220110T134419Z
LAST-MODIFIED:20220225T143919Z
UID:4340-1645898400-1645947000@nsdjax.org
SUMMARY:MOSH Camp - In
DESCRIPTION:Join us at MOSH for an overnight adventure that includes a science show\, a Planetarium program\, movie (tbd) and free time to explore the Museum! At the end of the night\, you can unroll your sleeping bags next to an Allosaurus skeleton or dolphin. “Night at the Museum” adventure includes:– Planetarium Show– Science Show– Pizza Snack– Museum Time– Movie Night– Continental Breakfast– NSD Patch EventCost: $40 per person – register on Circle BridgePlan to arrive at the Museum (front doors) by 6 p.m. MOSH Staff will be in the front lobby to welcome campers. Parking can be found in the lot across the street from MOSH in designated MOSH parking spots. Campers will be provided a late-night pizza snack\, but we recommend campers eat dinner before coming to the Museum.In the morning\, a continental breakfast will be served. Please be aware that due to our artifacts and collections\, MOSH is temperature controlled and can get chilly at night. We advise that you bring warm clothes and plenty of blankets. Also please be aware that not all light will be extinguished in the Museum\, so there will be some spaces that remain lit throughout the night for safety purposes. Feel free to bring your own snacks and water\, but please note that gum is not allowed in the Museum.\n\n  \nLimited to 100 campers –Sign up NOW!
URL:https://nsdjax.org/event-detail/mosh-camp-in-2022/
LOCATION:MOSH\, 1025 Museum Circle Jacksonville\, FL 32207\, Jacksonville\, FL\, 32207\, United States
CATEGORIES:Federation Event
ATTACH;FMTTYPE=image/jpeg:https://nsdjax.org/wp-content/uploads/Mosh.jpg
ORGANIZER;CN="Buddy 'Lion Heart' Greer":MAILTO:tomtombeater@nsdjax.org
END:VEVENT
END:VCALENDAR