BEGIN:VCALENDAR
VERSION:2.0
PRODID:-//Native Sons &amp; Daughters of Jacksonville - ECPv6.15.20//NONSGML v1.0//EN
CALSCALE:GREGORIAN
METHOD:PUBLISH
X-ORIGINAL-URL:https://nsdjax.org
X-WR-CALDESC:Events for Native Sons &amp; Daughters of Jacksonville
REFRESH-INTERVAL;VALUE=DURATION:PT1H
X-Robots-Tag:noindex
X-PUBLISHED-TTL:PT1H
BEGIN:VTIMEZONE
TZID:America/New_York
BEGIN:DAYLIGHT
TZOFFSETFROM:-0500
TZOFFSETTO:-0400
TZNAME:EDT
DTSTART:20200308T070000
END:DAYLIGHT
BEGIN:STANDARD
TZOFFSETFROM:-0400
TZOFFSETTO:-0500
TZNAME:EST
DTSTART:20201101T060000
END:STANDARD
BEGIN:DAYLIGHT
TZOFFSETFROM:-0500
TZOFFSETTO:-0400
TZNAME:EDT
DTSTART:20210314T070000
END:DAYLIGHT
BEGIN:STANDARD
TZOFFSETFROM:-0400
TZOFFSETTO:-0500
TZNAME:EST
DTSTART:20211107T060000
END:STANDARD
BEGIN:DAYLIGHT
TZOFFSETFROM:-0500
TZOFFSETTO:-0400
TZNAME:EDT
DTSTART:20220313T070000
END:DAYLIGHT
BEGIN:STANDARD
TZOFFSETFROM:-0400
TZOFFSETTO:-0500
TZNAME:EST
DTSTART:20221106T060000
END:STANDARD
END:VTIMEZONE
BEGIN:VEVENT
DTSTART;TZID=America/New_York:20210219T080000
DTEND;TZID=America/New_York:20210221T170000
DTSTAMP:20260423T024719
CREATED:20210127T132748Z
LAST-MODIFIED:20210129T160217Z
UID:4026-1613721600-1613926800@nsdjax.org
SUMMARY:Pathfinders Suwannee Fire Circle Service Project
DESCRIPTION:The Pathfinders are planning a Service Project and need all the Timucuan Tribes to help them out. \nThe Pathfinders will be replacing all the benches at the Spirit of the Suwannee Music Park fire circle (where we conduct our Sacred Fire). \nEach tribe should provide 1 bench (12ft by 10 inch x 2 inch) with whatever decoration they want.  The Pathfinders will coat and seal these then install them on site. \nAll wood deliveries/pick up can be coordinated with Chief Peterbilt \nDeadline for planks is Feb 8th \nPlease Register on CircleBridge \n\nCamp out and help with the Service Project – bringing a board pre-decorated\nCamp out and help with the Service Project – need a board\nDecorated board but not camping
URL:https://nsdjax.org/event-detail/pathfinders-suwannee-fire-circle-service-project-2/
LOCATION:Spirit of the Suwannee Music Park\, 3076 95th Drive\, Live Oak\, FL\, 32060\, United States
CATEGORIES:Federation Event,Service Project
ATTACH;FMTTYPE=image/jpeg:https://nsdjax.org/wp-content/uploads/fire-ring-benches.jpg
END:VEVENT
BEGIN:VEVENT
DTSTART;TZID=America/New_York:20210228T150000
DTEND;TZID=America/New_York:20210228T170000
DTSTAMP:20260423T024719
CREATED:20201103T152127Z
LAST-MODIFIED:20210215T130437Z
UID:3959-1614524400-1614531600@nsdjax.org
SUMMARY:Valentines Heartbreaker Disc Golf Tournament - **Rescheduled Due to Weather**
DESCRIPTION:NEW DATE FEB 28th \nCome spend some quality time with your “angels” this Valentines day. \nWe are holding our inaugural Valentines Day Heart Breaker Disc Golf Tournament at Ronnie Van Zant Park \nCheck in at the “clubhouse” (Pavilion 1) before heading out onto the 9 hole course.  Afterwards relax with a soda and snack.  There is a giant playground and ninja course available for the kids as well (and Chief Red Bear). \nPrizes will be awarded to the lowest girls and boys scores (numbers permitting) \nPlenty of room for social distancing \nThis is a Patch event and will count towards OWB and Coup Points for TOTY \n \nRules and Scorecard – VHB Scorecard
URL:https://nsdjax.org/event-detail/2021-valentines-disc-golf/
LOCATION:Ronnie Van Zant Park\, 2760 Sandridge Rd\, Green Cove Springs\, FL\, 32043\, United States
CATEGORIES:Federation Event
ATTACH;FMTTYPE=image/jpeg:https://nsdjax.org/wp-content/uploads/RVZ-Park.jpg
ORGANIZER;CN="Stewart 'Running Wombat' Morris":MAILTO:webspinner@nsdjax.org
END:VEVENT
END:VCALENDAR