BEGIN:VCALENDAR
VERSION:2.0
PRODID:-//Native Sons &amp; Daughters of Jacksonville - ECPv6.15.20//NONSGML v1.0//EN
CALSCALE:GREGORIAN
METHOD:PUBLISH
X-WR-CALNAME:Native Sons &amp; Daughters of Jacksonville
X-ORIGINAL-URL:https://nsdjax.org
X-WR-CALDESC:Events for Native Sons &amp; Daughters of Jacksonville
REFRESH-INTERVAL;VALUE=DURATION:PT1H
X-Robots-Tag:noindex
X-PUBLISHED-TTL:PT1H
BEGIN:VTIMEZONE
TZID:America/New_York
BEGIN:DAYLIGHT
TZOFFSETFROM:-0500
TZOFFSETTO:-0400
TZNAME:EDT
DTSTART:20190310T070000
END:DAYLIGHT
BEGIN:STANDARD
TZOFFSETFROM:-0400
TZOFFSETTO:-0500
TZNAME:EST
DTSTART:20191103T060000
END:STANDARD
BEGIN:DAYLIGHT
TZOFFSETFROM:-0500
TZOFFSETTO:-0400
TZNAME:EDT
DTSTART:20200308T070000
END:DAYLIGHT
BEGIN:STANDARD
TZOFFSETFROM:-0400
TZOFFSETTO:-0500
TZNAME:EST
DTSTART:20201101T060000
END:STANDARD
BEGIN:DAYLIGHT
TZOFFSETFROM:-0500
TZOFFSETTO:-0400
TZNAME:EDT
DTSTART:20210314T070000
END:DAYLIGHT
BEGIN:STANDARD
TZOFFSETFROM:-0400
TZOFFSETTO:-0500
TZNAME:EST
DTSTART:20211107T060000
END:STANDARD
END:VTIMEZONE
BEGIN:VEVENT
DTSTART;TZID=America/New_York:20200501T000000
DTEND;TZID=America/New_York:20200503T235959
DTSTAMP:20260424T054215
CREATED:20200130T140153Z
LAST-MODIFIED:20200330T231413Z
UID:3706-1588291200-1588550399@nsdjax.org
SUMMARY:**POSTPONED** Boys Spring Longhouse 2020
DESCRIPTION:Details TBA\n 
URL:https://nsdjax.org/event-detail/2020-boys-spring-longhouse/
LOCATION:Hanna Park\, 500 Wonderwood Dr\, Jacksonville\, FL\, 32233\, United States
CATEGORIES:Federation Event,Longhouse
ATTACH;FMTTYPE=image/jpeg:https://nsdjax.org/wp-content/uploads/HannaParkBoardwalk1.jpg
END:VEVENT
BEGIN:VEVENT
DTSTART;TZID=America/New_York:20200511T190000
DTEND;TZID=America/New_York:20200511T210000
DTSTAMP:20260424T054215
CREATED:20200214T013726Z
LAST-MODIFIED:20200512T184014Z
UID:3714-1589223600-1589230800@nsdjax.org
SUMMARY:**CANCELLED*** Jacksonville Armada (Soccer) (2021 OWB Qualifying event)
DESCRIPTION:Your Jacksonville Armada has joined the new Gulf Coast Conference of the NPSL. \nCome tailgate at Patton Park before the Armada take on Pensacola FC for the first time. \nPlease register on CircleBridge so we can reserve space in the bleachers. \nThere will be a patch for this event. \n(First OWB Qualifying event for 2020/2021) \n  \n  \nCost: $4 Per Person\nSponsor: Running Wombat\nDate/Time: May 30\, 2020 7:00 PM\nLocation: Patton Park\nAddress: 2850 Hodges Blvd\, Jacksonville 32246
URL:https://nsdjax.org/event-detail/jacksonville-armada-2/
LOCATION:Patton Park\, 2850 Hodges Blvd\, Jacksonville\, FL\, 32246\, United States
CATEGORIES:Federation Event,Sporting Event
ATTACH;FMTTYPE=image/jpeg:https://nsdjax.org/wp-content/uploads/armada-vs-pcola.jpg
ORGANIZER;CN="Stewart 'Running Wombat' Morris":MAILTO:webspinner@nsdjax.org
END:VEVENT
END:VCALENDAR