BEGIN:VCALENDAR
VERSION:2.0
PRODID:-//Native Sons &amp; Daughters of Jacksonville - ECPv6.15.20//NONSGML v1.0//EN
CALSCALE:GREGORIAN
METHOD:PUBLISH
X-ORIGINAL-URL:https://nsdjax.org
X-WR-CALDESC:Events for Native Sons &amp; Daughters of Jacksonville
REFRESH-INTERVAL;VALUE=DURATION:PT1H
X-Robots-Tag:noindex
X-PUBLISHED-TTL:PT1H
BEGIN:VTIMEZONE
TZID:America/New_York
BEGIN:DAYLIGHT
TZOFFSETFROM:-0500
TZOFFSETTO:-0400
TZNAME:EDT
DTSTART:20180311T070000
END:DAYLIGHT
BEGIN:STANDARD
TZOFFSETFROM:-0400
TZOFFSETTO:-0500
TZNAME:EST
DTSTART:20181104T060000
END:STANDARD
BEGIN:DAYLIGHT
TZOFFSETFROM:-0500
TZOFFSETTO:-0400
TZNAME:EDT
DTSTART:20190310T070000
END:DAYLIGHT
BEGIN:STANDARD
TZOFFSETFROM:-0400
TZOFFSETTO:-0500
TZNAME:EST
DTSTART:20191103T060000
END:STANDARD
BEGIN:DAYLIGHT
TZOFFSETFROM:-0500
TZOFFSETTO:-0400
TZNAME:EDT
DTSTART:20200308T070000
END:DAYLIGHT
BEGIN:STANDARD
TZOFFSETFROM:-0400
TZOFFSETTO:-0500
TZNAME:EST
DTSTART:20201101T060000
END:STANDARD
END:VTIMEZONE
BEGIN:VEVENT
DTSTART;TZID=America/New_York:20190516T173000
DTEND;TZID=America/New_York:20190516T203000
DTSTAMP:20260425T110244
CREATED:20190410T135953Z
LAST-MODIFIED:20190415T154808Z
UID:3175-1558027800-1558038600@nsdjax.org
SUMMARY:Hurricane Wings Fundraiser
DESCRIPTION:Invite your family and friends to joins us at the Hurricanes in Bartram Park on May 16th 5:30-8:30. \n  \nThis is a fundraising event and we will receive 15% of all sales (including drinks) so please invite as many people as possible \nPlease print out the flyer and distribute as needed \nNative_Sons_and_daughters_Fundraiser_Flyer
URL:https://nsdjax.org/event-detail/hurricane-wings-fundraiser/
LOCATION:Hurricane Grill & Wings\, 12547 Bartram Park Blvd\, 205\, Jacksonville\, FL\, 32258\, United States
CATEGORIES:External Event,Federation Event,Fundraiser,Recruitment
ATTACH;FMTTYPE=image/jpeg:https://nsdjax.org/wp-content/uploads/Native_Sons_and_daughters_Fundraiser_Flyer.jpg
ORGANIZER;CN="Jason 'Red Snapper' Bradshaw":MAILTO:jbradshaw@mcveighmangum.com
END:VEVENT
BEGIN:VEVENT
DTSTART;TZID=America/New_York:20190518T100000
DTEND;TZID=America/New_York:20190519T100000
DTSTAMP:20260425T110245
CREATED:20190326T154642Z
LAST-MODIFIED:20190502T135742Z
UID:3154-1558173600-1558260000@nsdjax.org
SUMMARY:Order of the White Buffalo - Everyone Welcome (FREE TO QUALIFIED MEMBERS ONLY)
DESCRIPTION:It’s been a fantastic year of fun\, laughter and many memories! Let’s celebrate those who have earned induction into the Sacred Order of the White Buffalo.  Camp 1 or 2 nights at Ichetucknee Family Canoe & Cabins which is within walking distance to the head spring at the north end for swimming.  We’ll lash our tubes to our vehicles and head to the State Park at 10am Saturday\, tube from the Midpoint\, finish and eat the lunch you bring\, then tube from the Midpoint again and head back to camp.  The Federation will sponsor a spaghetti dinner at 6PM and host an OWB induction ceremony.  Even if you didn’t quite make it to OWB this year you can still join us but we need everyone to register on Circle Bridge so we know how many campsites to reserve and how many spaghetti noodles to cook. \n\nOWB Qualifiers – 1 night camping\, $5 tube\, entry to the the State Park\, Shuttle\, and Spaghetti Dinner – FREE (any fancy tube over $5 you pay the difference)\nOWB Qualifiers – 2 nights camping plus everything in #1 – $20 per family\nNon-OWB Qualifiers – 1 night camping and Spaghetti Dinner on the 18th – $25/family + everything else at your expense\nNon-OWB Qualifiers – 2 nights camping and Spaghetti Dinner on the 18th – $50/family + everything else at your expense\n\n\nRegistration closes 5/15 \nTips for Tubing
URL:https://nsdjax.org/event-detail/2019-owb-party-2/
LOCATION:Ichetucknee Springs State Park\, 12087 SW U.S. Highway 27\, Fort White\, FL\, 32038\, United States
CATEGORIES:Federation Event
ATTACH;FMTTYPE=image/jpeg:https://nsdjax.org/wp-content/uploads/itchitucknee.jpg
END:VEVENT
BEGIN:VEVENT
DTSTART;TZID=America/New_York:20190525T190000
DTEND;TZID=America/New_York:20190525T210000
DTSTAMP:20260425T110245
CREATED:20190327T203336Z
LAST-MODIFIED:20190520T200942Z
UID:3126-1558810800-1558818000@nsdjax.org
SUMMARY:Jacksonville Armada (Soccer) (OWB Qualifying event)
DESCRIPTION:Join us to cheer on your Jacksonville Armada as they welcome Central Florida to Patton Park for the first time. \nPlease register on CircleBridge so we can reserve space in the bleachers \n(First OWB Qualifying event for 2019/2020) \n  \n  \nCost: Free\nSponsor: Running Wombat\nDate/Time: May 25\, 2019 7:00 PM\nLocation: Patton Park\nAddress: 2850 Hodges Blvd\, Jacksonville 32246
URL:https://nsdjax.org/event-detail/jacksonville-armada/
LOCATION:Patton Park\, 2850 Hodges Blvd\, Jacksonville\, FL\, 32246\, United States
CATEGORIES:Federation Event
ATTACH;FMTTYPE=image/jpeg:https://nsdjax.org/wp-content/uploads/armada.jpg
ORGANIZER;CN="Stewart 'Running Wombat' Morris":MAILTO:webspinner@nsdjax.org
END:VEVENT
END:VCALENDAR