BEGIN:VCALENDAR
VERSION:2.0
PRODID:-//Native Sons &amp; Daughters of Jacksonville - ECPv6.15.20//NONSGML v1.0//EN
CALSCALE:GREGORIAN
METHOD:PUBLISH
X-WR-CALNAME:Native Sons &amp; Daughters of Jacksonville
X-ORIGINAL-URL:https://nsdjax.org
X-WR-CALDESC:Events for Native Sons &amp; Daughters of Jacksonville
REFRESH-INTERVAL;VALUE=DURATION:PT1H
X-Robots-Tag:noindex
X-PUBLISHED-TTL:PT1H
BEGIN:VTIMEZONE
TZID:America/New_York
BEGIN:DAYLIGHT
TZOFFSETFROM:-0500
TZOFFSETTO:-0400
TZNAME:EDT
DTSTART:20180311T070000
END:DAYLIGHT
BEGIN:STANDARD
TZOFFSETFROM:-0400
TZOFFSETTO:-0500
TZNAME:EST
DTSTART:20181104T060000
END:STANDARD
BEGIN:DAYLIGHT
TZOFFSETFROM:-0500
TZOFFSETTO:-0400
TZNAME:EDT
DTSTART:20190310T070000
END:DAYLIGHT
BEGIN:STANDARD
TZOFFSETFROM:-0400
TZOFFSETTO:-0500
TZNAME:EST
DTSTART:20191103T060000
END:STANDARD
BEGIN:DAYLIGHT
TZOFFSETFROM:-0500
TZOFFSETTO:-0400
TZNAME:EDT
DTSTART:20200308T070000
END:DAYLIGHT
BEGIN:STANDARD
TZOFFSETFROM:-0400
TZOFFSETTO:-0500
TZNAME:EST
DTSTART:20201101T060000
END:STANDARD
BEGIN:DAYLIGHT
TZOFFSETFROM:-0500
TZOFFSETTO:-0400
TZNAME:EDT
DTSTART:20210314T070000
END:DAYLIGHT
BEGIN:STANDARD
TZOFFSETFROM:-0400
TZOFFSETTO:-0500
TZNAME:EST
DTSTART:20211107T060000
END:STANDARD
END:VTIMEZONE
BEGIN:VEVENT
DTSTART;TZID=America/New_York:20191225T190000
DTEND;TZID=America/New_York:20200329T210000
DTSTAMP:20260421T062600
CREATED:20200224T165530Z
LAST-MODIFIED:20200330T232445Z
UID:3429-1577300400-1585515600@nsdjax.org
SUMMARY:“Bring a Friend” Incentive Program
DESCRIPTION:Your 2019-2020 Timucuan Longhouse Recruitment Committee is excited to announce the new Timucuan “Bring a Friend” program! \nDo you or your little brave or princess have a friend who you would like to add to your tribe? Maybe you know of another family who you think would enjoy the Native Sons and Daughters programs as much as you and your family do. \nWell BEGINNING TODAY invite them out to an event with you and your little ones will be rewarded with some cool Native Sons and Daughters swag! We’ll be starting with some sweet Native Sons and Daughters aluminum water bottles\, but keep an eye out for additional rewards & incentives for your kids to choose from. \nSimply have your brave or princess “Bring a friend” to Summer Bowling or to any other eligible event\, introduce that friend the Fed Chief\, Medicine Man or any member of the Recruitment Committee\, and your little one and his or her friend will both receive one of these cool rewards! \nEmail me with any questions. \nDetails below… \n\nCreaking Oak\n\nRay Junk III \n  \n“Bring a friend” program – Prizes for bringing guests to eligible events. \n\n\n\n–          Any little brave or princess who brings another child or family to an eligible event in an effort to recruit will receive 1 NSD-branded aluminum water bottle\, PLUS 1 additional NSD-branded aluminum water bottle for that non-member child. \n–          Limit 1 NSD-branded aluminum water bottle per child (Current members or potential recruits) \n–          Eligible events include: \no   Summer Bowling \no   Citywide Powwow \no   Costume Bowling \no   Jumbo Shrimp \no   Other eligible events to be announced \n–          Program lasts from Summer Bowling 2019 through OWB 2020 or while supplies last. \n–          Rewards/Prizes subject to change
URL:https://nsdjax.org/event-detail/bring-a-friend-incentive-program/
LOCATION:FL\, United States
CATEGORIES:Federation Event,Recruitment
ATTACH;FMTTYPE=image/png:https://nsdjax.org/wp-content/uploads/AlumWaterBottles.png
END:VEVENT
BEGIN:VEVENT
DTSTART;VALUE=DATE:20200303
DTEND;VALUE=DATE:20200501
DTSTAMP:20260421T062600
CREATED:20200331T125526Z
LAST-MODIFIED:20200331T125526Z
UID:3753-1583193600-1588291199@nsdjax.org
SUMMARY:Federation Announcement
DESCRIPTION:We regretfully announce the postponement of our remaining events for the program year.   Moving forward we are hoping to reschedule some of these\, but all will depend on the evolving health crisis worldwide.  Hopefully we will be able to get together sooner rather than later
URL:https://nsdjax.org/event-detail/federation-announcement/
LOCATION:FL
ATTACH;FMTTYPE=image/png:https://nsdjax.org/wp-content/uploads/logo1.png
END:VEVENT
BEGIN:VEVENT
DTSTART;VALUE=DATE:20200319
DTEND;VALUE=DATE:20200323
DTSTAMP:20260421T062600
CREATED:20190918T202738Z
LAST-MODIFIED:20200108T183918Z
UID:3540-1584576000-1584921599@nsdjax.org
SUMMARY:2020 Sunshine State Pow Wow
DESCRIPTION:Our Statewide Pow-wow approaches. It will be in the city of Melbourne at Wickham Park March 19-22\, 2020. Registration windows and prices per person for the whole weekend are as follows:\n\nTIMUCUAN BLACK FRIDAY SALE Nov 25th – Nov 30th  $25 camping / $30 RV – Talk to your Nation Chief for the special code  \nEarly registration       2 Dec  –  15 Dec 2019    $35 camping / $40 RV \nRegular registration  16 Dec  –  23 Feb 2020   $45 camping / $50 RV\nLate registration        24 Feb  – 18 Mar 2020    $55 camping / $60 RV\n\nYour braves and princesses will compete in many good\, old-fashioned games. They need to get their card stamped after finishing each one. If they complete 8 out of 10 wargames\, they will earn their dogtag. Wargames include 3-legged race\, fire making\, water balloon launch\, a catch & release fishing tournament\, kayak races\, BB guns\, paddleboard jousting\, egg toss\, tug-o-war\, and a photo scavenger hunt. There will also be other fun activities like snake shows\, movie under the stars\, arts & crafts\, stargazing\, midnight kickball\, and 2 raffles (one for smaller prizes Friday and one for larger prizes Saturday – there will be 2 different price groups for each raffle).\n\nDon’t forget that the mighty Timucuan Federation will conduct a Sacred Fire Saturday night along with a Breaking Arrow ceremony. Please adhere to the rope or marker tape that blocks the area around the fire ring so we may save room for the ceremony for all to watch. Bring their vests\, headdresses\, and a natural light source (no flashlights or headlamps) for the Silent Walk before the Sacred Fire.\n\nCheck-in at Wickham Park begins at noon on Thursday March 19th\, 2020 and will close by noon (or soon thereafter) on Saturday March 21st\, 2020. The current schedule has 6 wargames available for Friday arrivals\, and all 10 available for Saturday.\n\n\nJoin the Band App for updates
URL:https://nsdjax.org/event-detail/2020-statewide-pow-wow/
LOCATION:Wickham Park\, 2500 Parkway Dr\, Melbourne\, FL\, 32935\, United States
CATEGORIES:Federation Event
ATTACH;FMTTYPE=image/jpeg:https://nsdjax.org/wp-content/uploads/Patch-Store-logo-v4_19Nov2019.jpg
ORGANIZER;CN="Rick 'Storm Cloud' Murphy":MAILTO:fedchief@nsdjax.org
END:VEVENT
END:VCALENDAR