BEGIN:VCALENDAR
VERSION:2.0
PRODID:-//Native Sons &amp; Daughters of Jacksonville - ECPv6.15.20//NONSGML v1.0//EN
CALSCALE:GREGORIAN
METHOD:PUBLISH
X-ORIGINAL-URL:https://nsdjax.org
X-WR-CALDESC:Events for Native Sons &amp; Daughters of Jacksonville
REFRESH-INTERVAL;VALUE=DURATION:PT1H
X-Robots-Tag:noindex
X-PUBLISHED-TTL:PT1H
BEGIN:VTIMEZONE
TZID:America/New_York
BEGIN:DAYLIGHT
TZOFFSETFROM:-0500
TZOFFSETTO:-0400
TZNAME:EDT
DTSTART:20180311T070000
END:DAYLIGHT
BEGIN:STANDARD
TZOFFSETFROM:-0400
TZOFFSETTO:-0500
TZNAME:EST
DTSTART:20181104T060000
END:STANDARD
BEGIN:DAYLIGHT
TZOFFSETFROM:-0500
TZOFFSETTO:-0400
TZNAME:EDT
DTSTART:20190310T070000
END:DAYLIGHT
BEGIN:STANDARD
TZOFFSETFROM:-0400
TZOFFSETTO:-0500
TZNAME:EST
DTSTART:20191103T060000
END:STANDARD
BEGIN:DAYLIGHT
TZOFFSETFROM:-0500
TZOFFSETTO:-0400
TZNAME:EDT
DTSTART:20200308T070000
END:DAYLIGHT
BEGIN:STANDARD
TZOFFSETFROM:-0400
TZOFFSETTO:-0500
TZNAME:EST
DTSTART:20201101T060000
END:STANDARD
END:VTIMEZONE
BEGIN:VEVENT
DTSTART;VALUE=DATE:20190803
DTEND;VALUE=DATE:20190805
DTSTAMP:20260421T184924
CREATED:20190701T223252Z
LAST-MODIFIED:20190724T203020Z
UID:3412-1564790400-1564963199@nsdjax.org
SUMMARY:Suwannee Canoe Trip - **SOLD OUT**
DESCRIPTION:A trip you won’t soon forget. An intimate group of all Timucuan tribes float and paddle leisurely (can’t stress leisurely enough!) down the scenic Suwannee River stopping many times along the way to swim\, rope swing\, eat\, and have fun. After arriving late afternoon at the Holton Creek River Camp\, the FIRST 30 PEOPLE registered set up camp in one of the screened-in enclosures and any others will need to bring their own tent. We’ll all cook out together under a pavilion with a large charcoal grill (charcoal will be provided but food will not). Sunday morning we’ll continue paddling & floating for about 2-3 hours to the take out point at Gibson County Park where you will be transported back to your cars at the Canoe Outpost. \nThe first 30 people registered get a spot in one of the raised\, screened-in enclosures that have electric and ceiling fans. There are clean\, air-conditioned bathrooms with showers available at Holton. Usually we have the entire camp to ourselves. Bring your own food and drinks for lunch\, dinner\, and breakfast Sunday. Bring your own sleeping bag and air mattress and make sure all your stuff is enclosed in dry boxes. It will get wet either from rain or from being in a canoe. You are welcome to make your own arrangements and camp Friday night at Suwannee. \nWhen:\nAugust 3rd – 4th\, Boats leave at 9:00 AM SHARP!\nWhere:\nSuwannee River Canoe Outpost (Same entrance as the Spirit of the Suwannee Music Park)\nCost:\n\nRent a boat from Canoe Outpost: \n\n$66 to rent a canoe\, minimum 2 per canoe at $33.00 each\n$15 for the third person in a rented canoe\n\nBring your own boat: \n\n$15 per person\n\nPrice includes canoe\, paddles\, life jackets\, overnight camping\, transportation back to Outpost\, driver tip\, and a patch)\n\n  \nRegistration:\nCircleBridge
URL:https://nsdjax.org/event-detail/2019-summer-canoe-trip/
LOCATION:Suwannee River Canoe Outpost\, 2461 95th Dr\, Live Oak\, FL\, 32060\, United States
CATEGORIES:Federation Event
ATTACH;FMTTYPE=image/png:https://nsdjax.org/wp-content/uploads/holton.png
END:VEVENT
END:VCALENDAR