BEGIN:VCALENDAR
VERSION:2.0
PRODID:-//Native Sons &amp; Daughters of Jacksonville - ECPv6.15.20//NONSGML v1.0//EN
CALSCALE:GREGORIAN
METHOD:PUBLISH
X-WR-CALNAME:Native Sons &amp; Daughters of Jacksonville
X-ORIGINAL-URL:https://nsdjax.org
X-WR-CALDESC:Events for Native Sons &amp; Daughters of Jacksonville
REFRESH-INTERVAL;VALUE=DURATION:PT1H
X-Robots-Tag:noindex
X-PUBLISHED-TTL:PT1H
BEGIN:VTIMEZONE
TZID:America/New_York
BEGIN:DAYLIGHT
TZOFFSETFROM:-0500
TZOFFSETTO:-0400
TZNAME:EDT
DTSTART:20180311T070000
END:DAYLIGHT
BEGIN:STANDARD
TZOFFSETFROM:-0400
TZOFFSETTO:-0500
TZNAME:EST
DTSTART:20181104T060000
END:STANDARD
BEGIN:DAYLIGHT
TZOFFSETFROM:-0500
TZOFFSETTO:-0400
TZNAME:EDT
DTSTART:20190310T070000
END:DAYLIGHT
BEGIN:STANDARD
TZOFFSETFROM:-0400
TZOFFSETTO:-0500
TZNAME:EST
DTSTART:20191103T060000
END:STANDARD
BEGIN:DAYLIGHT
TZOFFSETFROM:-0500
TZOFFSETTO:-0400
TZNAME:EDT
DTSTART:20200308T070000
END:DAYLIGHT
BEGIN:STANDARD
TZOFFSETFROM:-0400
TZOFFSETTO:-0500
TZNAME:EST
DTSTART:20201101T060000
END:STANDARD
END:VTIMEZONE
BEGIN:VEVENT
DTSTART;TZID=America/New_York:20190618T183000
DTEND;TZID=America/New_York:20190618T200000
DTSTAMP:20260425T163503
CREATED:20190429T150301Z
LAST-MODIFIED:20190429T150301Z
UID:3262-1560882600-1560888000@nsdjax.org
SUMMARY:State Wide PowWow Planning Meeting (6:30 PM)
DESCRIPTION:Planning for the 2020 Statewide PowWow is in progress.   Meeting starts promptly at 6:30 PM. All welcome.  Bring your ideas and be ready to plan the best Statewide event ever! (and stay on the agenda)
URL:https://nsdjax.org/event-detail/2020-statewide-planning-meeting1-2-2/
LOCATION:FL\, United States
CATEGORIES:Meeting
ORGANIZER;CN="Rick 'Storm Cloud' Murphy":MAILTO:fedchief@nsdjax.org
END:VEVENT
END:VCALENDAR